BEGIN:VCALENDAR
VERSION:2.0
PRODID:-//Mercer Events - ECPv5.16.4//NONSGML v1.0//EN
CALSCALE:GREGORIAN
METHOD:PUBLISH
X-WR-CALNAME:Mercer Events
X-ORIGINAL-URL:https://events.mercer.edu
X-WR-CALDESC:Events for Mercer Events
BEGIN:VTIMEZONE
TZID:America/New_York
BEGIN:DAYLIGHT
TZOFFSETFROM:-0500
TZOFFSETTO:-0400
TZNAME:EDT
DTSTART:20240310T070000
END:DAYLIGHT
BEGIN:STANDARD
TZOFFSETFROM:-0400
TZOFFSETTO:-0500
TZNAME:EST
DTSTART:20241103T060000
END:STANDARD
END:VTIMEZONE
BEGIN:VEVENT
DTSTART;TZID=America/New_York:20240928T130000
DTEND;TZID=America/New_York:20240928T150000
DTSTAMP:20260425T135400
CREATED:20240917T195028Z
LAST-MODIFIED:20240917T195028Z
UID:23024-1727528400-1727535600@events.mercer.edu
SUMMARY:Softball vs. Georgia Southwestern
DESCRIPTION:Fall softball schedule
URL:https://events.mercer.edu/event/softball-vs-georgia-southwestern-2/
LOCATION:Sikes Field\, Mercer University\, Macon\, GA\, 31210\, United States
CATEGORIES:Athletics
ATTACH;FMTTYPE=image/jpeg:https://events.mercer.edu/wp-content/uploads/sites/3/2024/09/Softball-2024-Fall-1.jpg
ORGANIZER;CN="Todd%20Anderson":MAILTO:anderson_t02@mercer.edu
END:VEVENT
END:VCALENDAR