BEGIN:VCALENDAR
VERSION:2.0
PRODID:-//Mercer Events - ECPv5.16.4//NONSGML v1.0//EN
CALSCALE:GREGORIAN
METHOD:PUBLISH
X-WR-CALNAME:Mercer Events
X-ORIGINAL-URL:https://events.mercer.edu
X-WR-CALDESC:Events for Mercer Events
BEGIN:VTIMEZONE
TZID:America/New_York
BEGIN:DAYLIGHT
TZOFFSETFROM:-0500
TZOFFSETTO:-0400
TZNAME:EDT
DTSTART:20260308T070000
END:DAYLIGHT
BEGIN:STANDARD
TZOFFSETFROM:-0400
TZOFFSETTO:-0500
TZNAME:EST
DTSTART:20261101T060000
END:STANDARD
END:VTIMEZONE
BEGIN:VEVENT
DTSTART;TZID=America/New_York:20260301T123000
DTEND;TZID=America/New_York:20260301T143000
DTSTAMP:20260425T090154
CREATED:20260102T192232Z
LAST-MODIFIED:20260102T192232Z
UID:29328-1772368200-1772375400@events.mercer.edu
SUMMARY:Softball vs. Presbyterian
DESCRIPTION:Final game of the weekend.
URL:https://events.mercer.edu/event/softball-vs-presbyterian-2/
LOCATION:Sikes Field\, Mercer University\, Macon\, GA\, 31210\, United States
CATEGORIES:Athletics
ATTACH;FMTTYPE=image/png:https://events.mercer.edu/wp-content/uploads/sites/3/2025/12/Avery-Barton-5.png
ORGANIZER;CN="Todd%20Anderson":MAILTO:anderson_t02@mercer.edu
END:VEVENT
END:VCALENDAR