BEGIN:VCALENDAR
VERSION:2.0
PRODID:-//Mercer Events - ECPv5.16.4//NONSGML v1.0//EN
CALSCALE:GREGORIAN
METHOD:PUBLISH
X-WR-CALNAME:Mercer Events
X-ORIGINAL-URL:https://events.mercer.edu
X-WR-CALDESC:Events for Mercer Events
BEGIN:VTIMEZONE
TZID:America/New_York
BEGIN:DAYLIGHT
TZOFFSETFROM:-0500
TZOFFSETTO:-0400
TZNAME:EDT
DTSTART:20230312T070000
END:DAYLIGHT
BEGIN:STANDARD
TZOFFSETFROM:-0400
TZOFFSETTO:-0500
TZNAME:EST
DTSTART:20231105T060000
END:STANDARD
END:VTIMEZONE
BEGIN:VEVENT
DTSTART;TZID=America/New_York:20230429T140000
DTEND;TZID=America/New_York:20230429T180000
DTSTAMP:20260425T134742
CREATED:20230112T213728Z
LAST-MODIFIED:20230112T213728Z
UID:14270-1682776800-1682791200@events.mercer.edu
SUMMARY:Softball vs. UNCG
DESCRIPTION:The Bears face UNCG in double-header action at Sikes Field. Final home weekend series of the season.
URL:https://events.mercer.edu/event/softball-vs-uncg-2/
LOCATION:Sikes Field\, Mercer University\, Macon\, GA\, 31210\, United States
CATEGORIES:Athletics
ATTACH;FMTTYPE=image/jpeg:https://events.mercer.edu/wp-content/uploads/sites/3/2023/01/52032048243_be396c10bf_k-5.jpg
ORGANIZER;CN="Jen%20Jones":MAILTO:jennifer.n.jones@live.mercer.edu
END:VEVENT
END:VCALENDAR