BEGIN:VCALENDAR
VERSION:2.0
PRODID:-//Mercer Events - ECPv5.16.4//NONSGML v1.0//EN
CALSCALE:GREGORIAN
METHOD:PUBLISH
X-WR-CALNAME:Mercer Events
X-ORIGINAL-URL:https://events.mercer.edu
X-WR-CALDESC:Events for Mercer Events
BEGIN:VTIMEZONE
TZID:America/New_York
BEGIN:DAYLIGHT
TZOFFSETFROM:-0500
TZOFFSETTO:-0400
TZNAME:EDT
DTSTART:20240310T070000
END:DAYLIGHT
BEGIN:STANDARD
TZOFFSETFROM:-0400
TZOFFSETTO:-0500
TZNAME:EST
DTSTART:20241103T060000
END:STANDARD
END:VTIMEZONE
BEGIN:VEVENT
DTSTART;TZID=America/New_York:20240323T140000
DTEND;TZID=America/New_York:20240323T180000
DTSTAMP:20260425T135302
CREATED:20231013T175203Z
LAST-MODIFIED:20231013T175203Z
UID:17844-1711202400-1711216800@events.mercer.edu
SUMMARY:Softball vs. Wofford College (DH)
DESCRIPTION:First Southern Conference games of the year for the Bears vs. Wofford. Games at 2 and 4 p.m.
URL:https://events.mercer.edu/event/softball-vs-wofford-college-dh/
LOCATION:Sikes Field\, Mercer University\, Macon\, GA\, 31210\, United States
CATEGORIES:Athletics
ATTACH;FMTTYPE=image/jpeg:https://events.mercer.edu/wp-content/uploads/sites/3/2023/10/IMG_0608.jpg
ORGANIZER;CN="Todd%20Anderson":MAILTO:anderson_t02@mercer.edu
END:VEVENT
END:VCALENDAR