BEGIN:VCALENDAR
VERSION:2.0
PRODID:-//Mercer Events - ECPv5.16.4//NONSGML v1.0//EN
CALSCALE:GREGORIAN
METHOD:PUBLISH
X-WR-CALNAME:Mercer Events
X-ORIGINAL-URL:https://events.mercer.edu
X-WR-CALDESC:Events for Mercer Events
BEGIN:VTIMEZONE
TZID:America/New_York
BEGIN:DAYLIGHT
TZOFFSETFROM:-0500
TZOFFSETTO:-0400
TZNAME:EDT
DTSTART:20240310T070000
END:DAYLIGHT
BEGIN:STANDARD
TZOFFSETFROM:-0400
TZOFFSETTO:-0500
TZNAME:EST
DTSTART:20241103T060000
END:STANDARD
END:VTIMEZONE
BEGIN:VEVENT
DTSTART;TZID=America/New_York:20240422T193000
DTEND;TZID=America/New_York:20240422T213000
DTSTAMP:20260422T031343
CREATED:20240410T152526Z
LAST-MODIFIED:20240410T152526Z
UID:20904-1713814200-1713821400@events.mercer.edu
SUMMARY:Step Afrika!
DESCRIPTION:Step Afrika! is the first professional company dedicated to the tradition of stepping — a polyrhythmic\, percussive dance form that uses the body as an instrument Step Afrika! is one of the top 10 African American dance companies in the world. Step Afrika! promotes stepping as a contemporary dance genre through critically acclaimed performances and arts education programs. Creatively engaging audiences in this nascent art form\, the Company creates full-length productions that expand on stepping’s unique American history. Event Sponsored by Macon-Bibb County Office of the Mayor $25 Adult. BUY NOW
URL:https://events.mercer.edu/event/step-afrika/
LOCATION:The Piedmont Grand Opera House\, 651 Mulberry Street\, Macon\, 31201
CATEGORIES:Arts
ATTACH;FMTTYPE=image/jpeg:https://events.mercer.edu/wp-content/uploads/sites/3/2024/04/2023.01.31-Step-Afrika-03.jpg
END:VEVENT
END:VCALENDAR