BEGIN:VCALENDAR
VERSION:2.0
PRODID:-//Mercer Events - ECPv5.16.4//NONSGML v1.0//EN
CALSCALE:GREGORIAN
METHOD:PUBLISH
X-WR-CALNAME:Mercer Events
X-ORIGINAL-URL:https://events.mercer.edu
X-WR-CALDESC:Events for Mercer Events
BEGIN:VTIMEZONE
TZID:America/New_York
BEGIN:DAYLIGHT
TZOFFSETFROM:-0500
TZOFFSETTO:-0400
TZNAME:EDT
DTSTART:20250309T070000
END:DAYLIGHT
BEGIN:STANDARD
TZOFFSETFROM:-0400
TZOFFSETTO:-0500
TZNAME:EST
DTSTART:20251102T060000
END:STANDARD
END:VTIMEZONE
BEGIN:VEVENT
DTSTART;TZID=America/New_York:20251113T171500
DTEND;TZID=America/New_York:20251113T174500
DTSTAMP:20260419T085826
CREATED:20251105T171634Z
LAST-MODIFIED:20251105T171634Z
UID:28634-1763054100-1763055900@events.mercer.edu
SUMMARY:Strategic Communication Webinar
DESCRIPTION:Join us as we discuss admission requirements and the application process.
URL:https://events.mercer.edu/event/strategic-communication-webinar/
LOCATION:Online
CATEGORIES:Admissions - Working Adults Undergraduate
ATTACH;FMTTYPE=image/jpeg:https://events.mercer.edu/wp-content/uploads/sites/3/2025/11/2025CollegeofProfessionalAdvancementPhDPinningRodReilly_0071-1.jpg
ORGANIZER;CN="Renee%20Slaton":MAILTO:slaton_nr@mercer.edu
END:VEVENT
END:VCALENDAR