BEGIN:VCALENDAR
VERSION:2.0
PRODID:-//Mercer Events - ECPv5.16.4//NONSGML v1.0//EN
CALSCALE:GREGORIAN
METHOD:PUBLISH
X-WR-CALNAME:Mercer Events
X-ORIGINAL-URL:https://events.mercer.edu
X-WR-CALDESC:Events for Mercer Events
BEGIN:VTIMEZONE
TZID:America/New_York
BEGIN:DAYLIGHT
TZOFFSETFROM:-0500
TZOFFSETTO:-0400
TZNAME:EDT
DTSTART:20220313T070000
END:DAYLIGHT
BEGIN:STANDARD
TZOFFSETFROM:-0400
TZOFFSETTO:-0500
TZNAME:EST
DTSTART:20221106T060000
END:STANDARD
END:VTIMEZONE
BEGIN:VEVENT
DTSTART;TZID=America/New_York:20220916T190000
DTEND;TZID=America/New_York:20220916T220000
DTSTAMP:20260422T033311
CREATED:20220907T152310Z
LAST-MODIFIED:20220907T152501Z
UID:12424-1663354800-1663365600@events.mercer.edu
SUMMARY:"The Color Purple"
DESCRIPTION:An epic tale spanning 40 years in the life of Celie (Whoopi Goldberg)\, an African-American woman living in Georgia who survives incredible abuse and bigotry. This gripping historical fiction is based on the novel by Alice Walker\, originally from Middle Georgia. The Oprah-produced 1985 film will screen here at The Grand before the musical movie filmed only blocks away in downtown Macon premieres next year.
URL:https://events.mercer.edu/event/the-color-purple-at-the-grand/
LOCATION:The Piedmont Grand Opera House\, 651 Mulberry Street\, Macon\, 31201
CATEGORIES:Public
ATTACH;FMTTYPE=image/jpeg:https://events.mercer.edu/wp-content/uploads/sites/3/2022/09/color_purple_season_slide.jpg
END:VEVENT
END:VCALENDAR