BEGIN:VCALENDAR
VERSION:2.0
PRODID:-//Mercer Events - ECPv5.16.4//NONSGML v1.0//EN
CALSCALE:GREGORIAN
METHOD:PUBLISH
X-WR-CALNAME:Mercer Events
X-ORIGINAL-URL:https://events.mercer.edu
X-WR-CALDESC:Events for Mercer Events
BEGIN:VTIMEZONE
TZID:America/New_York
BEGIN:DAYLIGHT
TZOFFSETFROM:-0500
TZOFFSETTO:-0400
TZNAME:EDT
DTSTART:20190310T070000
END:DAYLIGHT
BEGIN:STANDARD
TZOFFSETFROM:-0400
TZOFFSETTO:-0500
TZNAME:EST
DTSTART:20191103T060000
END:STANDARD
END:VTIMEZONE
BEGIN:VEVENT
DTSTART;TZID=America/New_York:20191105T173000
DTEND;TZID=America/New_York:20191105T210000
DTSTAMP:20260423T191121
CREATED:20191031T173542Z
LAST-MODIFIED:20191031T173542Z
UID:2006-1572975000-1572987600@events.mercer.edu
SUMMARY:The M-Files
DESCRIPTION:A challenging escape room for those participating in Homecoming.
URL:https://events.mercer.edu/event/the-m-files/
LOCATION:Connell Student Center\, Conference Room 2\, Macon
CATEGORIES:Student
ORGANIZER;CN="QuadWorks":MAILTO:quadworks@mercer.edu
END:VEVENT
END:VCALENDAR