BEGIN:VCALENDAR
VERSION:2.0
PRODID:-//Mercer Events - ECPv5.16.4//NONSGML v1.0//EN
CALSCALE:GREGORIAN
METHOD:PUBLISH
X-WR-CALNAME:Mercer Events
X-ORIGINAL-URL:https://events.mercer.edu
X-WR-CALDESC:Events for Mercer Events
BEGIN:VTIMEZONE
TZID:America/New_York
BEGIN:DAYLIGHT
TZOFFSETFROM:-0500
TZOFFSETTO:-0400
TZNAME:EDT
DTSTART:20250309T070000
END:DAYLIGHT
BEGIN:STANDARD
TZOFFSETFROM:-0400
TZOFFSETTO:-0500
TZNAME:EST
DTSTART:20251102T060000
END:STANDARD
END:VTIMEZONE
BEGIN:VEVENT
DTSTART;TZID=America/New_York:20250213T180000
DTEND;TZID=America/New_York:20250213T190000
DTSTAMP:20260420T003007
CREATED:20250128T203539Z
LAST-MODIFIED:20250128T203539Z
UID:24945-1739469600-1739473200@events.mercer.edu
SUMMARY:Thomas Robinson Prize: Jill McCorkle
DESCRIPTION:Mercer University’s Spencer B. King Jr. Center for Southern Studies will award the 2025 Thomas Robinson Prize for Southern Literature to award-winning author Jill McCorkle. The prize will be presented Feb. 13 at 6 p.m. in the University’s Presidents Dining Room.
URL:https://events.mercer.edu/event/thomas-robinson-prize-jill-mccorkle/
LOCATION:Presidents Dining Room\, 1501 Mercer University Drive\, Macon\, 31207
CATEGORIES:Academics
ATTACH;FMTTYPE=image/jpeg:https://events.mercer.edu/wp-content/uploads/sites/3/2025/01/McCorkleGraphic.jpg
END:VEVENT
END:VCALENDAR