BEGIN:VCALENDAR
VERSION:2.0
PRODID:-//Mercer Events - ECPv5.16.4//NONSGML v1.0//EN
CALSCALE:GREGORIAN
METHOD:PUBLISH
X-WR-CALNAME:Mercer Events
X-ORIGINAL-URL:https://events.mercer.edu
X-WR-CALDESC:Events for Mercer Events
BEGIN:VTIMEZONE
TZID:America/New_York
BEGIN:DAYLIGHT
TZOFFSETFROM:-0500
TZOFFSETTO:-0400
TZNAME:EDT
DTSTART:20250309T070000
END:DAYLIGHT
BEGIN:STANDARD
TZOFFSETFROM:-0400
TZOFFSETTO:-0500
TZNAME:EST
DTSTART:20251102T060000
END:STANDARD
END:VTIMEZONE
BEGIN:VEVENT
DTSTART;TZID=America/New_York:20251003T090000
DTEND;TZID=America/New_York:20251003T093000
DTSTAMP:20260424T070847
CREATED:20250924T122401Z
LAST-MODIFIED:20250924T122401Z
UID:27826-1759482000-1759483800@events.mercer.edu
SUMMARY:Time-Saving Tips and Tricks in Canvas
DESCRIPTION:Explore ways to better utilize features that will be easily transferable between semesters\, save you time communicating with students\, and make it easier to build quizzes and assignments.
URL:https://events.mercer.edu/event/time-saving-tips-and-tricks-in-canvas/
LOCATION:Online
CATEGORIES:Faculty & Staff
ATTACH;FMTTYPE=image/jpeg:https://events.mercer.edu/wp-content/uploads/sites/3/2019/05/jhc_82673-4K.jpg
ORGANIZER;CN="Center%20for%20Teaching%20and%20Learning":MAILTO:codone_s@mercer.edu
END:VEVENT
END:VCALENDAR