BEGIN:VCALENDAR
VERSION:2.0
PRODID:-//Mercer Events - ECPv5.16.4//NONSGML v1.0//EN
CALSCALE:GREGORIAN
METHOD:PUBLISH
X-WR-CALNAME:Mercer Events
X-ORIGINAL-URL:https://events.mercer.edu
X-WR-CALDESC:Events for Mercer Events
BEGIN:VTIMEZONE
TZID:America/New_York
BEGIN:DAYLIGHT
TZOFFSETFROM:-0500
TZOFFSETTO:-0400
TZNAME:EDT
DTSTART:20260308T070000
END:DAYLIGHT
BEGIN:STANDARD
TZOFFSETFROM:-0400
TZOFFSETTO:-0500
TZNAME:EST
DTSTART:20261101T060000
END:STANDARD
END:VTIMEZONE
BEGIN:VEVENT
DTSTART;TZID=America/New_York:20260224T170000
DTEND;TZID=America/New_York:20260224T190000
DTSTAMP:20260425T090326
CREATED:20260219T190924Z
LAST-MODIFIED:20260219T190924Z
UID:30579-1771952400-1771959600@events.mercer.edu
SUMMARY:Transfer Tuesday Drop-In Information Session — Henry County Regional Academic Center
DESCRIPTION:Mercer University – Henry County Regional Academic Center\n160 Henry Parkway Connector\nMcDonough\, GA 30253\nUnited States \nMercer University continues to offer innovative programs that connect you to opportunities in today’s workplace. Our programs are designed specifically for working adults\, making it possible for you to manage the important things in life while pursuing any one of our industry-focused programs. Please join Mercer’s Office of University Admissions to learn how our evening\, weekend\, and online curriculum can help you reach your educational goals!
URL:https://events.mercer.edu/event/transfer-tuesday-drop-in-information-session-henry-county-regional-academic-center-2/
LOCATION:Henry County Regional Academic Center\, 160 Henry Parkway\, McDonough\, 30253
CATEGORIES:Admissions - Working Adults Undergraduate
ATTACH;FMTTYPE=image/jpeg:https://events.mercer.edu/wp-content/uploads/sites/3/2026/02/CounselorStudentsMG2021-4081-2.jpg
ORGANIZER;CN="Renee%20Slaton":MAILTO:slaton_nr@mercer.edu
END:VEVENT
END:VCALENDAR