BEGIN:VCALENDAR
VERSION:2.0
PRODID:-//Mercer Events - ECPv5.16.4//NONSGML v1.0//EN
CALSCALE:GREGORIAN
METHOD:PUBLISH
X-WR-CALNAME:Mercer Events
X-ORIGINAL-URL:https://events.mercer.edu
X-WR-CALDESC:Events for Mercer Events
BEGIN:VTIMEZONE
TZID:America/New_York
BEGIN:DAYLIGHT
TZOFFSETFROM:-0500
TZOFFSETTO:-0400
TZNAME:EDT
DTSTART:20250309T070000
END:DAYLIGHT
BEGIN:STANDARD
TZOFFSETFROM:-0400
TZOFFSETTO:-0500
TZNAME:EST
DTSTART:20251102T060000
END:STANDARD
END:VTIMEZONE
BEGIN:VEVENT
DTSTART;TZID=America/New_York:20251212T110000
DTEND;TZID=America/New_York:20251212T140000
DTSTAMP:20260419T194418
CREATED:20251203T205719Z
LAST-MODIFIED:20251203T205719Z
UID:29026-1765537200-1765548000@events.mercer.edu
SUMMARY:VECTR Center — Military Alliance Scholarship Information Table
DESCRIPTION:Discover how the Military Alliance Scholarship can help you advance your education. Mercer representatives will be on site to share details about eligibility for Department of Defense employees\, contractors\, and veterans\, as well as the programs covered.
URL:https://events.mercer.edu/event/vectr-center-military-alliance-scholarship-information-table/
LOCATION:Georgia VECTR Center\, 1001 S Armed Forces Blvd\, Warner Robins\, 31088
CATEGORIES:Admissions - Graduate/Professional
ATTACH;FMTTYPE=image/jpeg:https://events.mercer.edu/wp-content/uploads/sites/3/2025/12/CounselorStudentsMG2021-4024-1.jpg
ORGANIZER;CN="Drew%20McIntosh":MAILTO:mcintosh_b02@mercer.edu
END:VEVENT
END:VCALENDAR