BEGIN:VCALENDAR
VERSION:2.0
PRODID:-//Mercer Events - ECPv5.16.4//NONSGML v1.0//EN
CALSCALE:GREGORIAN
METHOD:PUBLISH
X-WR-CALNAME:Mercer Events
X-ORIGINAL-URL:https://events.mercer.edu
X-WR-CALDESC:Events for Mercer Events
BEGIN:VTIMEZONE
TZID:America/New_York
BEGIN:DAYLIGHT
TZOFFSETFROM:-0500
TZOFFSETTO:-0400
TZNAME:EDT
DTSTART:20210314T070000
END:DAYLIGHT
BEGIN:STANDARD
TZOFFSETFROM:-0400
TZOFFSETTO:-0500
TZNAME:EST
DTSTART:20211107T060000
END:STANDARD
END:VTIMEZONE
BEGIN:VEVENT
DTSTART;TZID=America/New_York:20210804T120000
DTEND;TZID=America/New_York:20210804T130000
DTSTAMP:20260423T075351
CREATED:20210412T181030Z
LAST-MODIFIED:20210426T142002Z
UID:6758-1628078400-1628082000@events.mercer.edu
SUMMARY:Women in Leadership Series:  Success Strategies for Implementing an Inclusive Leadership Model
DESCRIPTION:Dr. Ansley Booker to present. Inclusive leadership is essential for cultivating an environment that values and respects diverse ideas\, thinking\, and perspectives in organizations. This session is designed to inspire and challenge individuals\, companies\, non-profits\, corporations\, and institutions to review and implement practices\, strategies\, and policies to strengthen or jumpstart their inclusive leadership model.
URL:https://events.mercer.edu/event/women-in-leadership-series-success-strategies-for-implementing-an-inclusive-leadership-model/
LOCATION:Online
CATEGORIES:Student
ATTACH;FMTTYPE=image/jpeg:https://events.mercer.edu/wp-content/uploads/sites/3/2021/04/women-in-leadership1.jpg
ORGANIZER;CN="Jeff%20Wolfe":MAILTO:wolfe_jj@mercer.edu
END:VEVENT
END:VCALENDAR