BEGIN:VCALENDAR
VERSION:2.0
PRODID:-//Mercer Events - ECPv5.16.4//NONSGML v1.0//EN
CALSCALE:GREGORIAN
METHOD:PUBLISH
X-WR-CALNAME:Mercer Events
X-ORIGINAL-URL:https://events.mercer.edu
X-WR-CALDESC:Events for Mercer Events
BEGIN:VTIMEZONE
TZID:America/New_York
BEGIN:DAYLIGHT
TZOFFSETFROM:-0500
TZOFFSETTO:-0400
TZNAME:EDT
DTSTART:20220313T070000
END:DAYLIGHT
BEGIN:STANDARD
TZOFFSETFROM:-0400
TZOFFSETTO:-0500
TZNAME:EST
DTSTART:20221106T060000
END:STANDARD
END:VTIMEZONE
BEGIN:VEVENT
DTSTART;TZID=America/New_York:20221108T140000
DTEND;TZID=America/New_York:20221108T170000
DTSTAMP:20260419T091115
CREATED:20221025T195147Z
LAST-MODIFIED:20221025T195221Z
UID:13441-1667916000-1667926800@events.mercer.edu
SUMMARY:Women’s Rights are Human Rights: International Posters on Gender-Based Inequality\, Violence\, and Discrimination
DESCRIPTION:The Art Department is proud to present this powerful poster exhibition\, curated by Elizabeth Resnick\, Professor Emerita\, Graphic Design at the Massachusetts College of Art and Design in Boston. Please join us for the opening reception on Nov. 8\, between 2 and 5 p.m. For more information about the exhibition\, please visit www.womensrightsarehumanrights.org.
URL:https://events.mercer.edu/event/womens-rights-are-human-rights-international-posters-on-gender-based-inequality-violence-and-discrimination/
LOCATION:Plunkett Gallery\, Hardman Hall\, GA\, United States
CATEGORIES:Arts
ATTACH;FMTTYPE=image/jpeg:https://events.mercer.edu/wp-content/uploads/sites/3/2022/10/WRAHR_ExhibitFlyer.jpg
END:VEVENT
END:VCALENDAR