BEGIN:VCALENDAR
VERSION:2.0
PRODID:-//Mercer Events - ECPv5.16.4//NONSGML v1.0//EN
CALSCALE:GREGORIAN
METHOD:PUBLISH
X-WR-CALNAME:Mercer Events
X-ORIGINAL-URL:https://events.mercer.edu
X-WR-CALDESC:Events for Mercer Events
BEGIN:VTIMEZONE
TZID:America/New_York
BEGIN:DAYLIGHT
TZOFFSETFROM:-0500
TZOFFSETTO:-0400
TZNAME:EDT
DTSTART:20260308T070000
END:DAYLIGHT
BEGIN:STANDARD
TZOFFSETFROM:-0400
TZOFFSETTO:-0500
TZNAME:EST
DTSTART:20261101T060000
END:STANDARD
END:VTIMEZONE
BEGIN:VEVENT
DTSTART;TZID=America/New_York:20260411T090000
DTEND;TZID=America/New_York:20260411T120000
DTSTAMP:20260421T070946
CREATED:20260218T162027Z
LAST-MODIFIED:20260220T185447Z
UID:30489-1775898000-1775908800@events.mercer.edu
SUMMARY:Workshop and Breakfast: Map Your Path\, Target Roles\, Land Interviews
DESCRIPTION:Open to all Mercer Bears on the Atlanta campus! \nWant the insider secrets that actually help you get hired? This interactive workshop is designed for students who want clarity\, confidence\, and a clear plan for launching their careers—and excelling in interviews. \nLed by Kathy Bremer\, an executive recruiter with experience on both sides of the hiring desk\, this hands-on session goes beyond generic advice. \nYou’ll receive a workbook and leave with: \n*Clear insight into your strengths\, motivators\, and career direction\n*Insider strategies for targeting roles and conducting an effective job search\n*A starter list of people to contact for advice and referrals—and how to reach out\n*A personalized action plan with concrete next steps\n*Confidence on how to handle interviews and career conversations \nFor questions\, please reach out to Dr. Moses Ngungu at ngungu_mk@mercer.edu or Julie Cannon at cannon_je@mercer.edu.
URL:https://events.mercer.edu/event/workshop-and-breakfast-map-your-path-target-roles-land-interviews/
LOCATION:Trustees Dining Room\, 3001 Mercer University Drive\, Atlanta\, 30341
CATEGORIES:Student
ATTACH;FMTTYPE=image/png:https://events.mercer.edu/wp-content/uploads/sites/3/2026/02/DMP-April-11-Workshop-and-Breakfast.png
ORGANIZER;CN="Moses%20Ngungu":MAILTO:ngungu_mk@mercer.edu
END:VEVENT
END:VCALENDAR