BEGIN:VCALENDAR
VERSION:2.0
PRODID:-//Mercer Events - ECPv5.16.4//NONSGML v1.0//EN
CALSCALE:GREGORIAN
METHOD:PUBLISH
X-WR-CALNAME:Mercer Events
X-ORIGINAL-URL:https://events.mercer.edu
X-WR-CALDESC:Events for Mercer Events
BEGIN:VTIMEZONE
TZID:America/New_York
BEGIN:DAYLIGHT
TZOFFSETFROM:-0500
TZOFFSETTO:-0400
TZNAME:EDT
DTSTART:20190310T070000
END:DAYLIGHT
BEGIN:STANDARD
TZOFFSETFROM:-0400
TZOFFSETTO:-0500
TZNAME:EST
DTSTART:20191103T060000
END:STANDARD
END:VTIMEZONE
BEGIN:VEVENT
DTSTART;TZID=America/New_York:20190625T180000
DTEND;TZID=America/New_York:20190625T190000
DTSTAMP:20260420T000155
CREATED:20190520T125639Z
LAST-MODIFIED:20190520T125639Z
UID:679-1561485600-1561489200@events.mercer.edu
SUMMARY:M.S. in Organizational Leadership Information Session
DESCRIPTION:Join our admissions team and faculty to learn more about our M.S. in Organizational Leadership program. We will discuss detailed program information as well as discuss the admissions process. The degree program offers three concentrations: Leadership and Organizational Development and Change\, Leadership for the Healthcare Professional\, and Leadership for the Nonprofit Organization.
URL:https://events.mercer.edu/event/m-s-in-organizational-leadership-information-session-2/
LOCATION:Henry County Regional Academic Center\, 160 Henry Parkway\, McDonough\, 30253
CATEGORIES:Admissions - Graduate/Professional
ORGANIZER;CN="Marc%20Reece":MAILTO:reece_mc@mercer.edu
END:VEVENT
BEGIN:VEVENT
DTSTART;TZID=America/New_York:20190625T183000
DTEND;TZID=America/New_York:20190625T200000
DTSTAMP:20260420T000155
CREATED:20190610T124335Z
LAST-MODIFIED:20190610T124335Z
UID:741-1561487400-1561492800@events.mercer.edu
SUMMARY:Business Programs Information Session
DESCRIPTION:Join members of Mercer University’s School of Business and Economics to learn how our undergraduate and graduate business programs can help you achieve your career goals. Gain insight from our admissions team on putting together a winning application and learn detailed information about program formats\, career services\, and co-curricular opportunities at Mercer. Once you’re here you’ll learn what it truly means to be a Mercer Bear.
URL:https://events.mercer.edu/event/business-programs-information-session-2/
LOCATION:Trustees Dining Room\, 3001 Mercer University Drive\, Atlanta\, 30341
CATEGORIES:Admissions - Graduate/Professional
ATTACH;FMTTYPE=image/jpeg:https://events.mercer.edu/wp-content/uploads/sites/3/2019/06/Business-Building-X2.jpg
ORGANIZER;CN="Karina%20Koplock":MAILTO:business.admissions@mercer.edu
END:VEVENT
END:VCALENDAR