BEGIN:VCALENDAR
VERSION:2.0
PRODID:-//Mercer Events - ECPv5.16.4//NONSGML v1.0//EN
CALSCALE:GREGORIAN
METHOD:PUBLISH
X-WR-CALNAME:Mercer Events
X-ORIGINAL-URL:https://events.mercer.edu
X-WR-CALDESC:Events for Mercer Events
BEGIN:VTIMEZONE
TZID:America/New_York
BEGIN:DAYLIGHT
TZOFFSETFROM:-0500
TZOFFSETTO:-0400
TZNAME:EDT
DTSTART:20190310T070000
END:DAYLIGHT
BEGIN:STANDARD
TZOFFSETFROM:-0400
TZOFFSETTO:-0500
TZNAME:EST
DTSTART:20191103T060000
END:STANDARD
END:VTIMEZONE
BEGIN:VEVENT
DTSTART;TZID=America/New_York:20190626T120000
DTEND;TZID=America/New_York:20190626T130000
DTSTAMP:20260420T012415
CREATED:20190520T125749Z
LAST-MODIFIED:20190520T125749Z
UID:677-1561550400-1561554000@events.mercer.edu
SUMMARY:M.S. in Organizational Leadership Information Session
DESCRIPTION:Join our admissions team and faculty to learn more about our M.S. in Organizational Leadership program. We will discuss detailed program information as well as discuss the admissions process. The graduate degree program offers three concentrations: Leadership and Organizational Development and Change\, Leadership for the Healthcare Professional\, and Leadership for the Nonprofit Organization. The event link will be sent to your e-mail inbox prior to the event.
URL:https://events.mercer.edu/event/m-s-in-organizational-leadership-information-session-3/
LOCATION:Online
CATEGORIES:Admissions - Graduate/Professional
ORGANIZER;CN="Marc%20Reece":MAILTO:reece_mc@mercer.edu
END:VEVENT
BEGIN:VEVENT
DTSTART;TZID=America/New_York:20190626T120000
DTEND;TZID=America/New_York:20190626T130000
DTSTAMP:20260420T012415
CREATED:20190610T124414Z
LAST-MODIFIED:20190610T124414Z
UID:736-1561550400-1561554000@events.mercer.edu
SUMMARY:Wednesday Webinar Series: The 8 Things to Know About Change Management
DESCRIPTION:The modern workplace is a fast-paced\, rapidly changing environment\, which can be difficult to keep up with as things are constantly changing. Face this challenging landscape with confidence by learning how to manage the things that are continually evolving in today’s organizations. Join us for Mercer University’s next Wednesday Webinar discussion as we define the 8 Things to Know About Change Management with Dr. Faye Sisk\, Professor of Management. Reserve your spot for our conversation by registering today.
URL:https://events.mercer.edu/event/wednesday-webinar-series-the-8-things-to-know-about-change-management/
ORGANIZER;CN="Myron%20Randall":MAILTO:randall_mi@mercer.edu
END:VEVENT
BEGIN:VEVENT
DTSTART;TZID=America/New_York:20190626T180000
DTEND;TZID=America/New_York:20190626T190000
DTSTAMP:20260420T012415
CREATED:20190520T125933Z
LAST-MODIFIED:20190520T125933Z
UID:668-1561572000-1561575600@events.mercer.edu
SUMMARY:Graduate Counseling Programs Information Session
DESCRIPTION:Mercer University offers graduate counseling programs that prepare students to serve as counselors in a variety of settings including mental health centers\, community agencies\, hospitals\, private practices\, schools\, rehabilitation centers and more. Attend our information session to learn more about your specific program of interest and the application process. You will have the opportunity to meet with admissions staff and faculty.
URL:https://events.mercer.edu/event/graduate-counseling-programs-information-session/
LOCATION:Administration and Conference Center\, 2930 Flowers Road South\, Atlanta\, 30341
CATEGORIES:Admissions - Graduate/Professional
ORGANIZER;CN="Marc%20Reece":MAILTO:reece_mc@mercer.edu
END:VEVENT
END:VCALENDAR