BEGIN:VCALENDAR
VERSION:2.0
PRODID:-//Mercer Events - ECPv5.16.4//NONSGML v1.0//EN
CALSCALE:GREGORIAN
METHOD:PUBLISH
X-WR-CALNAME:Mercer Events
X-ORIGINAL-URL:https://events.mercer.edu
X-WR-CALDESC:Events for Mercer Events
BEGIN:VTIMEZONE
TZID:America/New_York
BEGIN:DAYLIGHT
TZOFFSETFROM:-0500
TZOFFSETTO:-0400
TZNAME:EDT
DTSTART:20190310T070000
END:DAYLIGHT
BEGIN:STANDARD
TZOFFSETFROM:-0400
TZOFFSETTO:-0500
TZNAME:EST
DTSTART:20191103T060000
END:STANDARD
END:VTIMEZONE
BEGIN:VEVENT
DTSTART;TZID=America/New_York:20190627T120000
DTEND;TZID=America/New_York:20190627T130000
DTSTAMP:20260420T025310
CREATED:20190520T125909Z
LAST-MODIFIED:20190520T125909Z
UID:670-1561636800-1561640400@events.mercer.edu
SUMMARY:M.S. in Health Informatics Information Session
DESCRIPTION:Join our admissions team and faculty for a virtual information session to learn more about our fully online M.S. in Health Informatics graduate degree program. We will discuss detailed program information as well as discuss the admissions process. Register Now > The event link will be sent to your e-mail inbox prior to the event.
URL:https://events.mercer.edu/event/m-s-in-health-informatics-information-session-2/
LOCATION:Online
CATEGORIES:Admissions - Graduate/Professional
ORGANIZER;CN="Marc%20Reece":MAILTO:reece_mc@mercer.edu
END:VEVENT
END:VCALENDAR