BEGIN:VCALENDAR
VERSION:2.0
PRODID:-//Mercer Events - ECPv5.16.4//NONSGML v1.0//EN
CALSCALE:GREGORIAN
METHOD:PUBLISH
X-WR-CALNAME:Mercer Events
X-ORIGINAL-URL:https://events.mercer.edu
X-WR-CALDESC:Events for Mercer Events
BEGIN:VTIMEZONE
TZID:America/New_York
BEGIN:DAYLIGHT
TZOFFSETFROM:-0500
TZOFFSETTO:-0400
TZNAME:EDT
DTSTART:20190310T070000
END:DAYLIGHT
BEGIN:STANDARD
TZOFFSETFROM:-0400
TZOFFSETTO:-0500
TZNAME:EST
DTSTART:20191103T060000
END:STANDARD
END:VTIMEZONE
BEGIN:VEVENT
DTSTART;TZID=America/New_York:20190709T120000
DTEND;TZID=America/New_York:20190709T130000
DTSTAMP:20260419T143105
CREATED:20190520T125534Z
LAST-MODIFIED:20190520T125534Z
UID:683-1562673600-1562677200@events.mercer.edu
SUMMARY:M.S. in Human Services Information Session
DESCRIPTION:Join our admissions team and faculty for a virtual information session to learn more about our M.S. Human Services Program. We will discuss detailed program information as well as discuss the admissions process. The degree program offers two concentrations: Gerontology Services and Child and Adolescent Services. The event link will be sent to your e-mail inbox prior to the event.
URL:https://events.mercer.edu/event/m-s-in-human-services-information-session-2/
LOCATION:Online
CATEGORIES:Admissions - Graduate/Professional
ORGANIZER;CN="Marc%20Reece":MAILTO:reece_mc@mercer.edu
END:VEVENT
BEGIN:VEVENT
DTSTART;TZID=America/New_York:20190709T170000
DTEND;TZID=America/New_York:20190709T190000
DTSTAMP:20260419T143105
CREATED:20190703T141322Z
LAST-MODIFIED:20190703T141322Z
UID:836-1562691600-1562698800@events.mercer.edu
SUMMARY:Mercer University Financial Aid Day Workshop
DESCRIPTION:This workshop is geared to help students complete their FASFA or to answer any questions you may have about your financial aid status for the upcoming school year. The Office of Financial Planning and the Office of Student Success will be on hand to answer any questions you may have. \nWhat to bring to the Financial Aid Day Workshop: \n• Social Security Number. Be sure that it is correct!\n• Records of income\, 2017 income earned from work and business\, child support paid or received and any other untaxed income. Documents: 2017 W-2 Forms\, 2017 Federal Income Tax Return IRS 1040\, 1040A or 1040EZ.\n• Information about assets\, such as savings\, certificates of deposit\, stock options\, bonds\, 529 plans and other college savings programs; and investment real estate\, business and farm.\n• Driver’s license number\, if you have one.\n• Dates of birth\, include the month\, day and year.\n• Month and year of marriage\, separation\, divorce or other change in marital status.\n• Alien Registration Number\, if you (student) are not a U.S. citizen.
URL:https://events.mercer.edu/event/mercer-university-financial-aid-day-workshop-2/
LOCATION:Henry County Regional Academic Center\, 160 Henry Parkway\, McDonough\, 30253
CATEGORIES:Admissions - Working Adults Undergraduate
ORGANIZER;CN="Renee%20Slaton":MAILTO:slaton_nr@mercer.edu
END:VEVENT
BEGIN:VEVENT
DTSTART;TZID=America/New_York:20190709T180000
DTEND;TZID=America/New_York:20190709T190000
DTSTAMP:20260419T143105
CREATED:20190520T125056Z
LAST-MODIFIED:20190702T144748Z
UID:698-1562695200-1562698800@events.mercer.edu
SUMMARY:Adult Undergraduate Online Informatics & Communication Programs Virtual Information Session
DESCRIPTION:Mercer University continues to offer innovative undergraduate degree programs that connect you to opportunities in today’s workplace. Our programs are designed for working adult students making it possible for you to manage the important things in life while pursuing a degree in any one of our industry-focused programs. \nPlease join Mercer’s Admissions Office to learn how our online curriculum at Mercer University can help you reach your educational goals!
URL:https://events.mercer.edu/event/adult-undergraduate-online-informatics-communication-programs-virtual-information-session/
LOCATION:Online
CATEGORIES:Admissions - Working Adults Undergraduate
ORGANIZER;CN="Renee%20Slaton":MAILTO:slaton_nr@mercer.edu
END:VEVENT
END:VCALENDAR