BEGIN:VCALENDAR
VERSION:2.0
PRODID:-//Mercer Events - ECPv5.16.4//NONSGML v1.0//EN
CALSCALE:GREGORIAN
METHOD:PUBLISH
X-WR-CALNAME:Mercer Events
X-ORIGINAL-URL:https://events.mercer.edu
X-WR-CALDESC:Events for Mercer Events
BEGIN:VTIMEZONE
TZID:America/New_York
BEGIN:DAYLIGHT
TZOFFSETFROM:-0500
TZOFFSETTO:-0400
TZNAME:EDT
DTSTART:20190310T070000
END:DAYLIGHT
BEGIN:STANDARD
TZOFFSETFROM:-0400
TZOFFSETTO:-0500
TZNAME:EST
DTSTART:20191103T060000
END:STANDARD
END:VTIMEZONE
BEGIN:VEVENT
DTSTART;TZID=America/New_York:20190711T180000
DTEND;TZID=America/New_York:20190711T190000
DTSTAMP:20260419T110818
CREATED:20190520T124949Z
LAST-MODIFIED:20190702T144807Z
UID:700-1562868000-1562871600@events.mercer.edu
SUMMARY:Adult Undergraduate Programs Information Session - Atlanta
DESCRIPTION:Mercer University continues to offer innovative undergraduate degree programs that connect you to opportunities in today’s workplace. Our programs are designed for working adult students making it possible for you to manage the important things in life while pursuing a degree in any one of our industry-focused programs. \nPlease join Mercer’s Admissions Office to learn how our evening\, weekend and online curriculum at Mercer University can help you reach your educational goals!
URL:https://events.mercer.edu/event/adult-undergraduate-programs-information-session-atlanta-2/
LOCATION:Administration and Conference Center\, 2930 Flowers Road South\, Atlanta\, 30341
CATEGORIES:Admissions - Working Adults Undergraduate
ORGANIZER;CN="Renee%20Slaton":MAILTO:slaton_nr@mercer.edu
END:VEVENT
END:VCALENDAR