BEGIN:VCALENDAR
VERSION:2.0
PRODID:-//Mercer Events - ECPv5.16.4//NONSGML v1.0//EN
CALSCALE:GREGORIAN
METHOD:PUBLISH
X-WR-CALNAME:Mercer Events
X-ORIGINAL-URL:https://events.mercer.edu
X-WR-CALDESC:Events for Mercer Events
BEGIN:VTIMEZONE
TZID:America/New_York
BEGIN:DAYLIGHT
TZOFFSETFROM:-0500
TZOFFSETTO:-0400
TZNAME:EDT
DTSTART:20200308T070000
END:DAYLIGHT
BEGIN:STANDARD
TZOFFSETFROM:-0400
TZOFFSETTO:-0500
TZNAME:EST
DTSTART:20201101T060000
END:STANDARD
END:VTIMEZONE
BEGIN:VEVENT
DTSTART;TZID=America/New_York:20200327T120000
DTEND;TZID=America/New_York:20200327T130000
DTSTAMP:20260419T085312
CREATED:20200324T150659Z
LAST-MODIFIED:20200324T150659Z
UID:3387-1585310400-1585314000@events.mercer.edu
SUMMARY:B.S. in Psychology Program Webinar
DESCRIPTION:Mercer University continues to offer innovative undergraduate degree programs such as the B.S. in Psychology that connects you to opportunities in today’s workplace. Our programs are designed for working adult students making it possible for you to manage the important things in life while pursuing a degree in any one of our industry-focused programs. Please join our Office of Admissions to learn how Mercer’s evening\, weekend\, and online B.S. in Psychology can help you reach your educational goals!
URL:https://events.mercer.edu/event/b-s-in-psychology-program-webinar/
LOCATION:Online
CATEGORIES:Admissions - Working Adults Undergraduate
ORGANIZER;CN="Megan%20Currie":MAILTO:currie_ma@mercer.edu
END:VEVENT
BEGIN:VEVENT
DTSTART;TZID=America/New_York:20200327T130000
DTEND;TZID=America/New_York:20200327T140000
DTSTAMP:20260419T085312
CREATED:20200324T150949Z
LAST-MODIFIED:20200324T150949Z
UID:3390-1585314000-1585317600@events.mercer.edu
SUMMARY:Public Safety Programs Information Webinar
DESCRIPTION:Mercer University continues to offer innovative bachelor’s degree programs that connect you to opportunities in today’s workplace. Our programs are designed for working adult students making it possible for you to manage the important things in life while pursuing a degree in any one of our industry-focused programs. Please join our Office of Admissions online to learn how Mercer’s evening\, weekend\, and online public safety programs can help you reach your educational goals!
URL:https://events.mercer.edu/event/public-safety-programs-information-webinar/
LOCATION:Online
CATEGORIES:Admissions - Working Adults Undergraduate
ATTACH;FMTTYPE=image/jpeg:https://events.mercer.edu/wp-content/uploads/sites/3/2020/03/App-and-FA-WS-Henry.jpg
ORGANIZER;CN="Todd%20Burke":MAILTO:burke_tm@mercer.edu
END:VEVENT
BEGIN:VEVENT
DTSTART;TZID=America/New_York:20200327T160000
DTEND;TZID=America/New_York:20200327T180000
DTSTAMP:20260419T085312
CREATED:20200206T193224Z
LAST-MODIFIED:20200317T230231Z
UID:2907-1585324800-1585332000@events.mercer.edu
SUMMARY:Women's Lacrosse vs. Liberty - Cancelled
DESCRIPTION:Women’s lacrosse hosts Liberty
URL:https://events.mercer.edu/event/womens-lacrosse-vs-liberty/
LOCATION:Five Star Stadium\, 1501 Mercer University Drive\, Macon\, 31207
CATEGORIES:Athletics
ATTACH;FMTTYPE=image/jpeg:https://events.mercer.edu/wp-content/uploads/sites/3/2020/02/ATHLETICS-womens-lacrosse_MSP76571.jpg
ORGANIZER;CN="Jesika%20Moore":MAILTO:jesika.moore@live.mercer.edu
END:VEVENT
BEGIN:VEVENT
DTSTART;TZID=America/New_York:20200327T170000
DTEND;TZID=America/New_York:20200327T190000
DTSTAMP:20260419T085312
CREATED:20200114T133001Z
LAST-MODIFIED:20200317T130041Z
UID:2492-1585328400-1585335600@events.mercer.edu
SUMMARY:Beat Shazam - Cancelled
DESCRIPTION:In preparation for Bearstock\, we will have a competition where students try to guess the artists of their popular songs
URL:https://events.mercer.edu/event/beat-shazam/
LOCATION:Farmers Market\, 1501 Mercer University Dr.\, Macon\, 31207
CATEGORIES:Student
ATTACH;FMTTYPE=image/jpeg:https://events.mercer.edu/wp-content/uploads/sites/3/2019/10/QuadWorks-Logo-2019.jpg
ORGANIZER;CN="QuadWorks":MAILTO:quadworks@mercer.edu
END:VEVENT
END:VCALENDAR