BEGIN:VCALENDAR
VERSION:2.0
PRODID:-//Mercer Events - ECPv5.16.4//NONSGML v1.0//EN
CALSCALE:GREGORIAN
METHOD:PUBLISH
X-WR-CALNAME:Mercer Events
X-ORIGINAL-URL:https://events.mercer.edu
X-WR-CALDESC:Events for Mercer Events
BEGIN:VTIMEZONE
TZID:America/New_York
BEGIN:DAYLIGHT
TZOFFSETFROM:-0500
TZOFFSETTO:-0400
TZNAME:EDT
DTSTART:20240310T070000
END:DAYLIGHT
BEGIN:STANDARD
TZOFFSETFROM:-0400
TZOFFSETTO:-0500
TZNAME:EST
DTSTART:20241103T060000
END:STANDARD
END:VTIMEZONE
BEGIN:VEVENT
DTSTART;TZID=America/New_York:20240411T170000
DTEND;TZID=America/New_York:20240411T180000
DTSTAMP:20260424T125445
CREATED:20240401T184926Z
LAST-MODIFIED:20240401T184926Z
UID:20755-1712854800-1712858400@events.mercer.edu
SUMMARY:Consider a Career in Counseling — Mercer's M.S. in Counseling Information Session
DESCRIPTION:Mercer University continues to offer innovative graduate degree programs that connect you to opportunities in today’s workplace. Our programs are designed for all students\, making it possible for you to manage the important things in life while pursuing a degree in any one of our industry-focused programs.Today\, more children\, adolescents\, and adults face emotional\, mental\, or behavioral challenges. Mercer University’s Master of Science in Clinical Mental Health Counseling qualifies graduates to help people in their communities tackle such issues. Please join Mercer’s Admissions Office to learn how our graduate evening\, weekend\, and online curriculum at Mercer University can help you reach your educational goals!
URL:https://events.mercer.edu/event/consider-a-career-in-counseling-mercers-m-s-in-counseling-information-session-11/
LOCATION:Online
CATEGORIES:Admissions - Graduate/Professional
ATTACH;FMTTYPE=image/jpeg:https://events.mercer.edu/wp-content/uploads/sites/3/2024/04/General-Counseling-Programs.jpg
ORGANIZER;CN="Liam%20Heery":MAILTO:heery_l@mercer.edu
END:VEVENT
BEGIN:VEVENT
DTSTART;TZID=America/New_York:20240411T180000
DTEND;TZID=America/New_York:20240411T190000
DTSTAMP:20260424T125445
CREATED:20240207T132414Z
LAST-MODIFIED:20240207T132414Z
UID:20004-1712858400-1712862000@events.mercer.edu
SUMMARY:Master of Public Health (MPH) Info Session
DESCRIPTION:Join us to learn more about Mercer University’s Master of Public Health (MPH) program in Atlanta\, Georgia (or fully online!). Whether you’re just beginning your research or preparing to apply this year\, learn more about our graduate program and ask questions about the curriculum\, the admissions process\, and how the MPH degree can help you achieve your career goals.
URL:https://events.mercer.edu/event/master-of-public-health-mph-info-session-13/
LOCATION:Online
CATEGORIES:Admissions - Graduate/Professional
ATTACH;FMTTYPE=image/png:https://events.mercer.edu/wp-content/uploads/sites/3/2024/02/DrPH-Justin.png
ORGANIZER;CN="College%20of%20Health%20Professions":MAILTO:chpadmissions@mercer.edu
END:VEVENT
END:VCALENDAR