BEGIN:VCALENDAR
VERSION:2.0
PRODID:-//Mercer Events - ECPv5.16.4//NONSGML v1.0//EN
CALSCALE:GREGORIAN
METHOD:PUBLISH
X-WR-CALNAME:Mercer Events
X-ORIGINAL-URL:https://events.mercer.edu
X-WR-CALDESC:Events for Mercer Events
BEGIN:VTIMEZONE
TZID:America/New_York
BEGIN:DAYLIGHT
TZOFFSETFROM:-0500
TZOFFSETTO:-0400
TZNAME:EDT
DTSTART:20240310T070000
END:DAYLIGHT
BEGIN:STANDARD
TZOFFSETFROM:-0400
TZOFFSETTO:-0500
TZNAME:EST
DTSTART:20241103T060000
END:STANDARD
END:VTIMEZONE
BEGIN:VEVENT
DTSTART;TZID=America/New_York:20240415T120000
DTEND;TZID=America/New_York:20240415T130000
DTSTAMP:20260424T070442
CREATED:20240401T185053Z
LAST-MODIFIED:20240401T185053Z
UID:20758-1713182400-1713186000@events.mercer.edu
SUMMARY:Marketing Organizations and Securing Funding — Master's in Human Services Administration Webinar
DESCRIPTION:Mercer University continues to offer innovative graduate degree programs that connect you to opportunities in today’s workplace. Our programs are designed for all students\, making it possible for you to manage the important things in life while pursuing a degree in any one of our industry-focused programs. Mercer University’s Master of Science in Human Services Administration qualifies individuals to pursue leadership positions in the human services field. Students learn how to close the gap between people\, communities\, and resources to improve health care services. Please join Mercer’s Admissions Office to learn how our graduate evening\, weekend\, and online curriculum at Mercer University can help you reach your educational goals!
URL:https://events.mercer.edu/event/marketing-organizations-and-securing-funding-masters-in-human-services-administration-webinar-10/
LOCATION:Online
CATEGORIES:Admissions - Graduate/Professional
ATTACH;FMTTYPE=image/png:https://events.mercer.edu/wp-content/uploads/sites/3/2024/04/Human-Services.png
ORGANIZER;CN="Liam%20Heery":MAILTO:heery_l@mercer.edu
END:VEVENT
BEGIN:VEVENT
DTSTART;TZID=America/New_York:20240415T170000
DTEND;TZID=America/New_York:20240415T180000
DTSTAMP:20260424T070442
CREATED:20240304T154828Z
LAST-MODIFIED:20240304T154828Z
UID:20398-1713200400-1713204000@events.mercer.edu
SUMMARY:Educational Leadership - Welcome Session (April)
DESCRIPTION:Welcome to Mercer! \nThis session will serve as a virtual Welcome to Mercer Session prior to MANDATORY New Student Orientation on May 18\, 2024\, from 9 am – 12 pm in-person on our Atlanta Campus. This welcome session provides insights into university resources and high-level program overviews. See you soon.
URL:https://events.mercer.edu/event/educational-leadership-welcome-session-april/
LOCATION:Online
CATEGORIES:Admissions - Graduate/Professional
ATTACH;FMTTYPE=image/jpeg:https://events.mercer.edu/wp-content/uploads/sites/3/2024/03/Tift-Grad-Orientation-4.jpg
ORGANIZER;CN="Sarah%20J.%20White":MAILTO:white_sj@mercer.edu
END:VEVENT
END:VCALENDAR