BEGIN:VCALENDAR
VERSION:2.0
PRODID:-//Mercer Events - ECPv5.16.4//NONSGML v1.0//EN
CALSCALE:GREGORIAN
METHOD:PUBLISH
X-WR-CALNAME:Mercer Events
X-ORIGINAL-URL:https://events.mercer.edu
X-WR-CALDESC:Events for Mercer Events
BEGIN:VTIMEZONE
TZID:America/New_York
BEGIN:DAYLIGHT
TZOFFSETFROM:-0500
TZOFFSETTO:-0400
TZNAME:EDT
DTSTART:20240310T070000
END:DAYLIGHT
BEGIN:STANDARD
TZOFFSETFROM:-0400
TZOFFSETTO:-0500
TZNAME:EST
DTSTART:20241103T060000
END:STANDARD
END:VTIMEZONE
BEGIN:VEVENT
DTSTART;TZID=America/New_York:20240507T153000
DTEND;TZID=America/New_York:20240507T163000
DTSTAMP:20260422T195559
CREATED:20240221T152826Z
LAST-MODIFIED:20240221T152826Z
UID:20219-1715095800-1715099400@events.mercer.edu
SUMMARY:Master of Athletic Training (MAT) Information Session
DESCRIPTION:Join us to learn more about Mercer University’s Master of Athletic Training (MAT) program in Macon\, Georgia. Whether you’re just beginning your research or preparing to apply this year\, learn more about our graduate program and ask questions about the curriculum\, the admissions process\, and how the MAT degree can help you achieve your career goals.
URL:https://events.mercer.edu/event/master-of-athletic-training-mat-information-session-10/
LOCATION:Online
CATEGORIES:Admissions - Graduate/Professional
ATTACH;FMTTYPE=image/jpeg:https://events.mercer.edu/wp-content/uploads/sites/3/2024/02/MAT-for-info-session-1.jpg
ORGANIZER;CN="College%20of%20Health%20Professions":MAILTO:chpadmissions@mercer.edu
END:VEVENT
END:VCALENDAR