BEGIN:VCALENDAR
VERSION:2.0
PRODID:-//Mercer Events - ECPv5.16.4//NONSGML v1.0//EN
CALSCALE:GREGORIAN
METHOD:PUBLISH
X-WR-CALNAME:Mercer Events
X-ORIGINAL-URL:https://events.mercer.edu
X-WR-CALDESC:Events for Mercer Events
BEGIN:VTIMEZONE
TZID:America/New_York
BEGIN:DAYLIGHT
TZOFFSETFROM:-0500
TZOFFSETTO:-0400
TZNAME:EDT
DTSTART:20240310T070000
END:DAYLIGHT
BEGIN:STANDARD
TZOFFSETFROM:-0400
TZOFFSETTO:-0500
TZNAME:EST
DTSTART:20241103T060000
END:STANDARD
END:VTIMEZONE
BEGIN:VEVENT
DTSTART;TZID=America/New_York:20240514T120000
DTEND;TZID=America/New_York:20240514T123000
DTSTAMP:20260422T073841
CREATED:20240424T123617Z
LAST-MODIFIED:20240424T123617Z
UID:21031-1715688000-1715689800@events.mercer.edu
SUMMARY:Marketing Organizations and Securing Funding — Master's in Human Services Administration Webinar
DESCRIPTION:Mercer University continues to offer innovative graduate degree programs that connect you to opportunities in today’s workplace. Our programs are designed for all students\, making it possible for you to manage the important things in life while pursuing a degree in any one of our industry-focused programs. Mercer University’s Master of Science in Human Services Administration qualifies individuals to pursue leadership positions in the human services field. Students learn how to close the gap between people\, communities\, and resources to improve healthcare services. Please join Mercer’s Admissions Office to learn how our graduate evening\, weekend\, and online curriculum at Mercer University can help you reach your educational goals!
URL:https://events.mercer.edu/event/marketing-organizations-and-securing-funding-masters-in-human-services-administration-webinar-12/
LOCATION:Online
CATEGORIES:Admissions - Graduate/Professional
ATTACH;FMTTYPE=image/png:https://events.mercer.edu/wp-content/uploads/sites/3/2024/04/Human-Services-2.png
ORGANIZER;CN="Liam%20Heery":MAILTO:heery_l@mercer.edu
END:VEVENT
BEGIN:VEVENT
DTSTART;TZID=America/New_York:20240514T160000
DTEND;TZID=America/New_York:20240514T170000
DTSTAMP:20260422T073841
CREATED:20240424T123707Z
LAST-MODIFIED:20240424T123707Z
UID:21049-1715702400-1715706000@events.mercer.edu
SUMMARY:Mercer University School of Medicine\, Ph.D. in Biomedical Sciences Virtual Information Session
DESCRIPTION:Meet the PhD in Biomedical Sciences (PhD BMS) Program Director to more fully explore the program and how it may fit into your goals. You will find it a great way to learn more about the program itself and ask any specific questions that you might have.\nFormat: Presentation followed by Q & A.
URL:https://events.mercer.edu/event/mercer-university-school-of-medicine-ph-d-in-biomedical-sciences-virtual-information-session-2/
LOCATION:Online
CATEGORIES:Admissions - Graduate/Professional
ATTACH;FMTTYPE=image/jpeg:https://events.mercer.edu/wp-content/uploads/sites/3/2024/04/BMSPHD_Virtual-Session_NOV2023_1080x1080.jpg
ORGANIZER;CN="MUSM%20Admissions":MAILTO:musmadmissions@mercer.edu
END:VEVENT
END:VCALENDAR