BEGIN:VCALENDAR
VERSION:2.0
PRODID:-//Mercer Events - ECPv5.16.4//NONSGML v1.0//EN
CALSCALE:GREGORIAN
METHOD:PUBLISH
X-WR-CALNAME:Mercer Events
X-ORIGINAL-URL:https://events.mercer.edu
X-WR-CALDESC:Events for Mercer Events
BEGIN:VTIMEZONE
TZID:America/New_York
BEGIN:DAYLIGHT
TZOFFSETFROM:-0500
TZOFFSETTO:-0400
TZNAME:EDT
DTSTART:20240310T070000
END:DAYLIGHT
BEGIN:STANDARD
TZOFFSETFROM:-0400
TZOFFSETTO:-0500
TZNAME:EST
DTSTART:20241103T060000
END:STANDARD
END:VTIMEZONE
BEGIN:VEVENT
DTSTART;TZID=America/New_York:20240518T090000
DTEND;TZID=America/New_York:20240518T120000
DTSTAMP:20260422T014546
CREATED:20240304T155034Z
LAST-MODIFIED:20240501T143515Z
UID:20400-1716022800-1716033600@events.mercer.edu
SUMMARY:Educational Leadership - New Student Orientation
DESCRIPTION:Congratulations on your acceptance into Mercer University Tift College of Education! \nWe are certainly excited to have you join our cohort this Summer term\, with classes set to start on May 20\, 2024. Before those classes begin\, we want to make sure we can meet with you to go over important information for all new students\, take a deep dive into the ins and outs of the program\, and make sure we can answer all of your questions. To aid with this\, we will host a New Student Orientation\, where you can meet with our faculty and admissions staff. \nWe look forward to seeing you there!
URL:https://events.mercer.edu/event/educational-leadership-new-student-orientation/
LOCATION:Mercer University Atlanta Campus\, 3001 Mercer University Drive\, Atlanta\, 30341
CATEGORIES:Admissions - Graduate/Professional
ATTACH;FMTTYPE=image/jpeg:https://events.mercer.edu/wp-content/uploads/sites/3/2024/03/Tift-Grad-Orientation-5.jpg
ORGANIZER;CN="Sarah%20J.%20White":MAILTO:white_sj@mercer.edu
END:VEVENT
END:VCALENDAR