BEGIN:VCALENDAR
VERSION:2.0
PRODID:-//Mercer Events - ECPv5.16.4//NONSGML v1.0//EN
CALSCALE:GREGORIAN
METHOD:PUBLISH
X-WR-CALNAME:Mercer Events
X-ORIGINAL-URL:https://events.mercer.edu
X-WR-CALDESC:Events for Mercer Events
BEGIN:VTIMEZONE
TZID:America/New_York
BEGIN:DAYLIGHT
TZOFFSETFROM:-0500
TZOFFSETTO:-0400
TZNAME:EDT
DTSTART:20240310T070000
END:DAYLIGHT
BEGIN:STANDARD
TZOFFSETFROM:-0400
TZOFFSETTO:-0500
TZNAME:EST
DTSTART:20241103T060000
END:STANDARD
END:VTIMEZONE
BEGIN:VEVENT
DTSTART;TZID=America/New_York:20240523T180000
DTEND;TZID=America/New_York:20240523T190000
DTSTAMP:20260421T190906
CREATED:20240514T201121Z
LAST-MODIFIED:20240514T201121Z
UID:21135-1716487200-1716490800@events.mercer.edu
SUMMARY:Evening MBA: Are You Ready to Start Your Journey?
DESCRIPTION:Mercer’s AACSB-accredited MBA programs provide the flexibility\, challenging coursework\, and project-based learning necessary to grow professionally and advance your career. Is now the right time to pursue your MBA? \nMeet with our graduate admissions team in person on Mercer’s Macon campus to discover your options to pursue an MBA at Mercer. Enjoy a short presentation followed by a Q&A session. We’ll cover course requirements\, the application process\, and help you choose the MBA program that’s right for you! This event is free to attend. Limited space is available\, so RSVP to reserve your spot.
URL:https://events.mercer.edu/event/evening-mba-are-you-ready-to-start-your-journey/
LOCATION:Mercer Innovation Center\, 1501 Mercer University Dr\, Macon\, GA\, 31207\, United States
CATEGORIES:Admissions - Graduate/Professional
ATTACH;FMTTYPE=image/jpeg:https://events.mercer.edu/wp-content/uploads/sites/3/2024/05/Evening-MBA-Macon.jpg
ORGANIZER;CN="Drew%20McIntosh":MAILTO:mcintosh_b02@mercer.edu
END:VEVENT
END:VCALENDAR