BEGIN:VCALENDAR
VERSION:2.0
PRODID:-//Mercer Events - ECPv5.16.4//NONSGML v1.0//EN
CALSCALE:GREGORIAN
METHOD:PUBLISH
X-WR-CALNAME:Mercer Events
X-ORIGINAL-URL:https://events.mercer.edu
X-WR-CALDESC:Events for Mercer Events
BEGIN:VTIMEZONE
TZID:America/New_York
BEGIN:DAYLIGHT
TZOFFSETFROM:-0500
TZOFFSETTO:-0400
TZNAME:EDT
DTSTART:20240310T070000
END:DAYLIGHT
BEGIN:STANDARD
TZOFFSETFROM:-0400
TZOFFSETTO:-0500
TZNAME:EST
DTSTART:20241103T060000
END:STANDARD
END:VTIMEZONE
BEGIN:VEVENT
DTSTART;TZID=America/New_York:20240531T160000
DTEND;TZID=America/New_York:20240531T170000
DTSTAMP:20260421T043346
CREATED:20231130T140652Z
LAST-MODIFIED:20231130T140652Z
UID:18856-1717171200-1717174800@events.mercer.edu
SUMMARY:Mercer University School of Medicine\, Master of Family Therapy (MFT) Program Virtual Information Session
DESCRIPTION:Join our MFT program faculty for a virtual information session to help you decide if our program is right for you and to more fully explore how the program may fit into your goals. You will find it a great way to learn more about the MFT program itself and ask any specific questions that you might have.
URL:https://events.mercer.edu/event/mercer-university-school-of-medicine-master-of-family-therapy-mft-program-virtual-information-session-2/2024-05-31/
LOCATION:ZOOM\, United States
CATEGORIES:Admissions - Graduate/Professional
ATTACH;FMTTYPE=image/jpeg:https://events.mercer.edu/wp-content/uploads/sites/3/2023/11/MFT-Info_Session-Image-for-Submit-an-Event.jpg
ORGANIZER;CN="MUSM%20Admissions":MAILTO:musmadmissions@mercer.edu
END:VEVENT
END:VCALENDAR