BEGIN:VCALENDAR
VERSION:2.0
PRODID:-//Mercer Events - ECPv5.16.4//NONSGML v1.0//EN
CALSCALE:GREGORIAN
METHOD:PUBLISH
X-WR-CALNAME:Mercer Events
X-ORIGINAL-URL:https://events.mercer.edu
X-WR-CALDESC:Events for Mercer Events
BEGIN:VTIMEZONE
TZID:America/New_York
BEGIN:DAYLIGHT
TZOFFSETFROM:-0500
TZOFFSETTO:-0400
TZNAME:EDT
DTSTART:20240310T070000
END:DAYLIGHT
BEGIN:STANDARD
TZOFFSETFROM:-0400
TZOFFSETTO:-0500
TZNAME:EST
DTSTART:20241103T060000
END:STANDARD
END:VTIMEZONE
BEGIN:VEVENT
DTSTART;TZID=America/New_York:20240620T180000
DTEND;TZID=America/New_York:20240620T183000
DTSTAMP:20260419T210400
CREATED:20240603T145716Z
LAST-MODIFIED:20240603T145716Z
UID:21471-1718906400-1718908200@events.mercer.edu
SUMMARY:Make It Mercer — Inside Stetson-Hatcher School of Business
DESCRIPTION:Meet with admissions director Mat Edmunds to discuss program offerings in and out of the classroom that could help you get where you want to go in your journey. We will discuss the admissions process\, program offerings\, career services and in all\, what it is like to be a business bear.
URL:https://events.mercer.edu/event/make-it-mercer-inside-stetson-hatcher-school-of-business/
LOCATION:Online
CATEGORIES:Admissions - Graduate/Professional
ATTACH;FMTTYPE=image/jpeg:https://events.mercer.edu/wp-content/uploads/sites/3/2024/05/Business-Grad-session-1.jpg
ORGANIZER;CN="Mat%20Edmunds":MAILTO:business.admissions@mercer.edu
END:VEVENT
END:VCALENDAR