BEGIN:VCALENDAR
VERSION:2.0
PRODID:-//Mercer Events - ECPv5.16.4//NONSGML v1.0//EN
CALSCALE:GREGORIAN
METHOD:PUBLISH
X-WR-CALNAME:Mercer Events
X-ORIGINAL-URL:https://events.mercer.edu
X-WR-CALDESC:Events for Mercer Events
BEGIN:VTIMEZONE
TZID:America/New_York
BEGIN:DAYLIGHT
TZOFFSETFROM:-0500
TZOFFSETTO:-0400
TZNAME:EDT
DTSTART:20250309T070000
END:DAYLIGHT
BEGIN:STANDARD
TZOFFSETFROM:-0400
TZOFFSETTO:-0500
TZNAME:EST
DTSTART:20251102T060000
END:STANDARD
END:VTIMEZONE
BEGIN:VEVENT
DTSTART;TZID=America/New_York:20250312T090000
DTEND;TZID=America/New_York:20250312T100000
DTSTAMP:20260419T201853
CREATED:20250212T134556Z
LAST-MODIFIED:20250212T134556Z
UID:25363-1741770000-1741773600@events.mercer.edu
SUMMARY:MBA Coffee Chat
DESCRIPTION:Grab a cup of coffee\, tea or preferred beverage and stop by online to chat about the Mercer Master in Business Administration (MBA) program. No official agenda. No presentation. Just an opportunity to connect with MBA Admissions\, the occasional faculty member or student and get the information you are looking for and your questions answered. This happens every 2nd Wednesday of the month at 9am EST.
URL:https://events.mercer.edu/event/mba-coffee-chat-23/
LOCATION:Online
CATEGORIES:Admissions - Graduate/Professional
ATTACH;FMTTYPE=image/png:https://events.mercer.edu/wp-content/uploads/sites/3/2025/02/MBA-Coffee-Chat.png
ORGANIZER;CN="Mat%20Edmunds":MAILTO:business.admissions@mercer.edu
END:VEVENT
BEGIN:VEVENT
DTSTART;TZID=America/New_York:20250312T120000
DTEND;TZID=America/New_York:20250312T140000
DTSTAMP:20260419T201853
CREATED:20250311T183949Z
LAST-MODIFIED:20250311T183949Z
UID:25686-1741780800-1741788000@events.mercer.edu
SUMMARY:In-Person B.S.N. Information Session
DESCRIPTION:Join us to learn more about our BSN program\, admissions requirements and the history of Mercer University’s College of Nursing! \nParking is free in the Atlanta Campus East or West parking lot. The East Parking Lot off Flowers Road is directly in front of the Nursing Building.
URL:https://events.mercer.edu/event/in-person-b-s-n-information-session/
LOCATION:Georgia Baptist College of Nursing Building\, First Floor\, 3001 Mercer University Dr\, Atlanta\, 30341
CATEGORIES:Admissions - Graduate/Professional
ATTACH;FMTTYPE=image/jpeg:https://events.mercer.edu/wp-content/uploads/sites/3/2025/03/NursingMKG2024-6230-1.jpg
ORGANIZER;CN="Jordan%20Kelly":MAILTO:nursingadmissions@mercer.edu
END:VEVENT
BEGIN:VEVENT
DTSTART;TZID=America/New_York:20250312T173000
DTEND;TZID=America/New_York:20250312T183000
DTSTAMP:20260419T201853
CREATED:20250212T134722Z
LAST-MODIFIED:20250212T134722Z
UID:25285-1741800600-1741804200@events.mercer.edu
SUMMARY:Pathway to Teaching: The Mercer Bears Guide to Becoming an Educator
DESCRIPTION:Thank you for your interest in Mercer’s Master of Arts in Teaching program! Our schools and districts are in need of transformational educators\, and we commend you on beginning your journey to becoming a certified educator in Georgia. Mercer’s Tift College of Education is the largest private preparer of educators in the state of Georgia. Join us for a webinar to discuss our programs for initial teacher certification. \nDuring this webinar\, we will cover the certification rules in Georgia in general before taking a deep dive into Mercer’s MAT program. We look forward to chatting with you there about all that Mercer has to offer. \nGo Bears!
URL:https://events.mercer.edu/event/pathway-to-teaching-the-mercer-bears-guide-to-becoming-an-educator-4/
LOCATION:Online
CATEGORIES:Admissions - Graduate/Professional
ATTACH;FMTTYPE=image/jpeg:https://events.mercer.edu/wp-content/uploads/sites/3/2025/02/How-to-Become-a-Teacher-webinar-7.jpg
ORGANIZER;CN="Sarah%20J.%20White":MAILTO:white_sj@mercer.edu
END:VEVENT
END:VCALENDAR