BEGIN:VCALENDAR
VERSION:2.0
PRODID:-//Mercer Events - ECPv5.16.4//NONSGML v1.0//EN
CALSCALE:GREGORIAN
METHOD:PUBLISH
X-WR-CALNAME:Mercer Events
X-ORIGINAL-URL:https://events.mercer.edu
X-WR-CALDESC:Events for Mercer Events
BEGIN:VTIMEZONE
TZID:America/New_York
BEGIN:DAYLIGHT
TZOFFSETFROM:-0500
TZOFFSETTO:-0400
TZNAME:EDT
DTSTART:20250309T070000
END:DAYLIGHT
BEGIN:STANDARD
TZOFFSETFROM:-0400
TZOFFSETTO:-0500
TZNAME:EST
DTSTART:20251102T060000
END:STANDARD
END:VTIMEZONE
BEGIN:VEVENT
DTSTART;TZID=America/New_York:20250318T121500
DTEND;TZID=America/New_York:20250318T130000
DTSTAMP:20260420T053625
CREATED:20250304T205044Z
LAST-MODIFIED:20250304T205044Z
UID:25595-1742300100-1742302800@events.mercer.edu
SUMMARY:Let's Talk! MBA Lunch Q&A
DESCRIPTION:Meet with the School of Business Director of Admissions to learn more about Mercer’s MBA degree options.
URL:https://events.mercer.edu/event/lets-talk-mba-lunch-qa/
LOCATION:Online
CATEGORIES:Admissions - Graduate/Professional
ATTACH;FMTTYPE=image/jpeg:https://events.mercer.edu/wp-content/uploads/sites/3/2025/03/Macon-MBA-3.jpg
ORGANIZER;CN="Drew%20McIntosh":MAILTO:mcintosh_b02@mercer.edu
END:VEVENT
BEGIN:VEVENT
DTSTART;TZID=America/New_York:20250318T173000
DTEND;TZID=America/New_York:20250318T183000
DTSTAMP:20260420T053625
CREATED:20250212T135026Z
LAST-MODIFIED:20250212T135026Z
UID:25287-1742319000-1742322600@events.mercer.edu
SUMMARY:Navigating the Application Process for M.Ed. and Ed.S. Programs — The Accomplished Teacher
DESCRIPTION:In this virtual session\, we will be covering the programs offered under the Advanced Teacher (Master of Education) and the Accomplished Teacher (Education Specialist). \nMercer’s Master of Education (M.Ed.) – The Advanced Teacher is designed to instruct and cultivate teachers to have an expanded philosophy of growth and change based on reliable knowledge and reflections on the best practices of teaching and learning. This program prepares teachers with the ability to understand and apply the skills of data analysis and educational research that impact educational experiences for all students. \nMercer University’s Specialist in Education (Ed.S.) – The Accomplished Teacher degree is a fully online 30-hour program that focuses on enhancing the knowledge and skills of educators in grades P through 12. This specialist degree will prepare you to advance in your career in education and will equip you with the necessary skills and experience for success. \nGo Bears!
URL:https://events.mercer.edu/event/navigating-the-application-process-for-m-ed-and-ed-s-programs-the-accomplished-teacher-5/
LOCATION:Online
CATEGORIES:Admissions - Graduate/Professional
ATTACH;FMTTYPE=image/jpeg:https://events.mercer.edu/wp-content/uploads/sites/3/2025/02/M.Ed_.-HEL-webinar-4.jpg
ORGANIZER;CN="Sarah%20J.%20White":MAILTO:white_sj@mercer.edu
END:VEVENT
BEGIN:VEVENT
DTSTART;TZID=America/New_York:20250318T180000
DTEND;TZID=America/New_York:20250318T190000
DTSTAMP:20260420T053625
CREATED:20250306T183620Z
LAST-MODIFIED:20250306T183620Z
UID:25648-1742320800-1742324400@events.mercer.edu
SUMMARY:Atlanta Campus Open House
DESCRIPTION:Join Mercer University’s Adult Undergraduate and Graduate Admissions Teams for the Atlanta Campus Open House to learn more about program offerings. This is a drop-in event starting at 6:00 p.m. ET with the Admissions Offices and team members.
URL:https://events.mercer.edu/event/atlanta-campus-open-house/
LOCATION:Trustees Dining Room\, 3001 Mercer University Drive\, Atlanta\, 30341
CATEGORIES:Admissions - Graduate/Professional
ATTACH;FMTTYPE=image/jpeg:https://events.mercer.edu/wp-content/uploads/sites/3/2025/03/Adult-UG-Open-House-Atlanta.jpg
ORGANIZER;CN="Renee%20Slaton":MAILTO:slaton_nr@mercer.edu
END:VEVENT
END:VCALENDAR