BEGIN:VCALENDAR
VERSION:2.0
PRODID:-//Mercer Events - ECPv5.16.4//NONSGML v1.0//EN
CALSCALE:GREGORIAN
METHOD:PUBLISH
X-WR-CALNAME:Mercer Events
X-ORIGINAL-URL:https://events.mercer.edu
X-WR-CALDESC:Events for Mercer Events
BEGIN:VTIMEZONE
TZID:America/New_York
BEGIN:DAYLIGHT
TZOFFSETFROM:-0500
TZOFFSETTO:-0400
TZNAME:EDT
DTSTART:20250309T070000
END:DAYLIGHT
BEGIN:STANDARD
TZOFFSETFROM:-0400
TZOFFSETTO:-0500
TZNAME:EST
DTSTART:20251102T060000
END:STANDARD
END:VTIMEZONE
BEGIN:VEVENT
DTSTART;TZID=America/New_York:20250319T090000
DTEND;TZID=America/New_York:20250319T100000
DTSTAMP:20260420T065808
CREATED:20250213T152256Z
LAST-MODIFIED:20250213T152256Z
UID:25370-1742374800-1742378400@events.mercer.edu
SUMMARY:M.S.B.A. Coffee Chat
DESCRIPTION:Grab a cup of coffee\, tea or preferred beverage and stop by online to chat about the Mercer M.S. in Business Analytics program. No official agenda. No presentation. Just an opportunity to connect with M.S.B.A. Admissions\, the occasional faculty member or student\, and get the information you are looking for and your questions answered. This happens every 3rd Wednesday of the month at 9am EST.
URL:https://events.mercer.edu/event/m-s-b-a-coffee-chat-6/
LOCATION:Online
CATEGORIES:Admissions - Graduate/Professional
ATTACH;FMTTYPE=image/jpeg:https://events.mercer.edu/wp-content/uploads/sites/3/2025/02/msba-coffee-chat.jpg
ORGANIZER;CN="Mat%20Edmunds":MAILTO:business.admissions@mercer.edu
END:VEVENT
BEGIN:VEVENT
DTSTART;TZID=America/New_York:20250319T120000
DTEND;TZID=America/New_York:20250319T123000
DTSTAMP:20260420T065809
CREATED:20250304T205150Z
LAST-MODIFIED:20250304T205150Z
UID:25583-1742385600-1742387400@events.mercer.edu
SUMMARY:Lead the Way in 2025 — Master's in Organizational Leadership Webinar
DESCRIPTION:Mercer University continues to offer innovative graduate degree programs that connect you to opportunities in today’s workplace. Our programs are designed for all students\, making it possible for you to manage the important things in life while pursuing a degree in any one of our industry-focused programs. The Organizational Leadership master’s degree program is designed for aspiring or existing leaders who are seeking advanced leadership roles in a variety of settings\, including the nonprofit\, health care\, and technology industries. Please join Mercer’s Admissions Office to learn how our graduate evening\, weekend\, and online curriculum at Mercer University can help you reach your educational goals!
URL:https://events.mercer.edu/event/lead-the-way-in-2025-masters-in-organizational-leadership-webinar-4/
LOCATION:Online
CATEGORIES:Admissions - Graduate/Professional
ATTACH;FMTTYPE=image/jpeg:https://events.mercer.edu/wp-content/uploads/sites/3/2025/03/Org-Leadership.jpg
ORGANIZER;CN="Liam%20Heery":MAILTO:heery_l@mercer.edu
END:VEVENT
BEGIN:VEVENT
DTSTART;TZID=America/New_York:20250319T173000
DTEND;TZID=America/New_York:20250319T183000
DTSTAMP:20260420T065809
CREATED:20250213T152443Z
LAST-MODIFIED:20250213T152443Z
UID:25289-1742405400-1742409000@events.mercer.edu
SUMMARY:Pathway to Teaching: The Mercer Bears Guide to Becoming an Educator
DESCRIPTION:Our schools and districts are in need of transformational educators\, and we commend you on beginning your journey to becoming a certified educator in Georgia. Mercer’s Tift College of Education is the largest private preparer of educators in the state of Georgia. Join us for a webinar to discuss our programs for initial teacher certification. \nDuring this webinar\, we will cover the certification rules in Georgia in general before taking a deep dive into Mercer’s MAT program. We look forward to chatting with you there about all that Mercer has to offer. \nGo Bears!
URL:https://events.mercer.edu/event/pathway-to-teaching-the-mercer-bears-guide-to-becoming-an-educator-5/
LOCATION:Online
CATEGORIES:Admissions - Graduate/Professional
ATTACH;FMTTYPE=image/jpeg:https://events.mercer.edu/wp-content/uploads/sites/3/2025/02/How-to-Become-a-Teacher-webinar-1.jpg
ORGANIZER;CN="Sarah%20J.%20White":MAILTO:white_sj@mercer.edu
END:VEVENT
END:VCALENDAR