BEGIN:VCALENDAR
VERSION:2.0
PRODID:-//Mercer Events - ECPv5.16.4//NONSGML v1.0//EN
CALSCALE:GREGORIAN
METHOD:PUBLISH
X-WR-CALNAME:Mercer Events
X-ORIGINAL-URL:https://events.mercer.edu
X-WR-CALDESC:Events for Mercer Events
BEGIN:VTIMEZONE
TZID:America/New_York
BEGIN:DAYLIGHT
TZOFFSETFROM:-0500
TZOFFSETTO:-0400
TZNAME:EDT
DTSTART:20250309T070000
END:DAYLIGHT
BEGIN:STANDARD
TZOFFSETFROM:-0400
TZOFFSETTO:-0500
TZNAME:EST
DTSTART:20251102T060000
END:STANDARD
END:VTIMEZONE
BEGIN:VEVENT
DTSTART;TZID=America/New_York:20250326T173000
DTEND;TZID=America/New_York:20250326T183000
DTSTAMP:20260420T180431
CREATED:20250213T154231Z
LAST-MODIFIED:20250213T154231Z
UID:25291-1743010200-1743013800@events.mercer.edu
SUMMARY:Lead the Future: Unleashing Your Potential in Educational Leadership at Mercer
DESCRIPTION:We invite you to join us for a webinar to discuss our Educational Leadership certification programs: Tier One\, M.Ed. in Educational Leadership\, Tier Two\, Ed.S. in Educational Leadership\, and the non-degree\, certification-only options for Tier One and Tier Two. During this webinar\, we will go over the Georgia PSC guidelines for Leadership certification\, and go into the details of how our program operates\, and what our program has to offer.
URL:https://events.mercer.edu/event/lead-the-future-unleashing-your-potential-in-educational-leadership-at-mercer/
LOCATION:Online
CATEGORIES:Admissions - Graduate/Professional
ATTACH;FMTTYPE=image/jpeg:https://events.mercer.edu/wp-content/uploads/sites/3/2025/02/Ed-Leadership-Webinar-1.jpg
ORGANIZER;CN="Sarah%20J.%20White":MAILTO:white_sj@mercer.edu
END:VEVENT
BEGIN:VEVENT
DTSTART;TZID=America/New_York:20250326T180000
DTEND;TZID=America/New_York:20250326T190000
DTSTAMP:20260420T180431
CREATED:20250206T214207Z
LAST-MODIFIED:20250206T214207Z
UID:25247-1743012000-1743015600@events.mercer.edu
SUMMARY:Doctor of Public Health (Dr.P.H.) Information Session
DESCRIPTION:Are you driven to make a significant impact in your field and eager to elevate your expertise to the highest level? Discover Mercer University’s Doctor of Public Health! Join us for an engaging virtual information session where you’ll explore the unique opportunities available through our diverse concentrations. Whether you’re just beginning your research or ready to apply this year\, this is your chance to delve deep into our rigorous and transformative program. Learn about our innovative curriculum\, ask detailed questions about the admissions process\, and find out how a doctoral degree from Mercer can empower you to achieve your ambitious career goals. Don’t miss this opportunity to ignite your passion for research\, innovation\, and leadership. Register now and step into an extraordinary future with Mercer University!
URL:https://events.mercer.edu/event/doctor-of-public-health-dr-p-h-information-session-9/
LOCATION:Virtual\, GA\, United States
CATEGORIES:Admissions - Graduate/Professional
ATTACH;FMTTYPE=image/jpeg:https://events.mercer.edu/wp-content/uploads/sites/3/2025/02/drph-pic-1-1.jpg
ORGANIZER;CN="College%20of%20Health%20Professions":MAILTO:chpadmissions@mercer.edu
END:VEVENT
BEGIN:VEVENT
DTSTART;TZID=America/New_York:20250326T190000
DTEND;TZID=America/New_York:20250326T200000
DTSTAMP:20260420T180431
CREATED:20241213T182742Z
LAST-MODIFIED:20250115T203712Z
UID:24350-1743015600-1743019200@events.mercer.edu
SUMMARY:Doctor of Physical Therapy (D.P.T.) Information Session
DESCRIPTION:Are you passionate about helping others achieve optimal health and eager to advance your career in physical therapy? Join us for an exciting virtual information session to discover Mercer University’s Doctor of Physical Therapy (D.P.T.) program in Atlanta\, Georgia! This is your opportunity to dive into our exceptional graduate program\, whether you’re just starting your research or ready to apply this year. During the session\, you’ll gain valuable insights into our innovative curriculum\, get your questions answered about the admissions process\, and explore how a D.P.T. degree can help you reach your professional goals. Don’t miss this chance to take the next step toward a rewarding and impactful career in physical therapy with Mercer University. Register now and start your journey toward excellence and making a difference in the lives of others!
URL:https://events.mercer.edu/event/doctor-of-physical-therapy-d-p-t-information-session-7/
LOCATION:Virtual\, GA\, United States
CATEGORIES:Admissions - Graduate/Professional
ATTACH;FMTTYPE=image/jpeg:https://events.mercer.edu/wp-content/uploads/sites/3/2024/12/Unknown.jpeg
ORGANIZER;CN="College%20of%20Health%20Professions":MAILTO:chpadmissions@mercer.edu
END:VEVENT
END:VCALENDAR