BEGIN:VCALENDAR
VERSION:2.0
PRODID:-//Mercer Events - ECPv5.16.4//NONSGML v1.0//EN
CALSCALE:GREGORIAN
METHOD:PUBLISH
X-WR-CALNAME:Mercer Events
X-ORIGINAL-URL:https://events.mercer.edu
X-WR-CALDESC:Events for Mercer Events
BEGIN:VTIMEZONE
TZID:America/New_York
BEGIN:DAYLIGHT
TZOFFSETFROM:-0500
TZOFFSETTO:-0400
TZNAME:EDT
DTSTART:20250309T070000
END:DAYLIGHT
BEGIN:STANDARD
TZOFFSETFROM:-0400
TZOFFSETTO:-0500
TZNAME:EST
DTSTART:20251102T060000
END:STANDARD
END:VTIMEZONE
BEGIN:VEVENT
DTSTART;TZID=America/New_York:20250403T120000
DTEND;TZID=America/New_York:20250403T130000
DTSTAMP:20260421T080742
CREATED:20241127T184654Z
LAST-MODIFIED:20241127T184654Z
UID:24264-1743681600-1743685200@events.mercer.edu
SUMMARY:Mercer University School of Medicine\, Master of Family Therapy (M.F.T.) Program Virtual Information Session
DESCRIPTION:Join our MFT program director for a virtual information session to help you decide if our program is right for you and to more fully explore how the program may fit into your goals. You will find it a great way to learn more about the MFT program itself and ask any specific questions that you might have.
URL:https://events.mercer.edu/event/mercer-university-school-of-medicine-master-of-family-therapy-m-f-t-program-virtual-information-session-2/2025-04-03/
LOCATION:ZOOM\, United States
CATEGORIES:Admissions - Graduate/Professional
ATTACH;FMTTYPE=image/jpeg:https://events.mercer.edu/wp-content/uploads/sites/3/2024/11/MFT-Info_Session-Image-for-Submit-an-Event.jpg
ORGANIZER;CN="MUSM%20Admissions":MAILTO:musmadmissions@mercer.edu
END:VEVENT
BEGIN:VEVENT
DTSTART;TZID=America/New_York:20250403T170000
DTEND;TZID=America/New_York:20250403T173000
DTSTAMP:20260421T080742
CREATED:20250407T152844Z
LAST-MODIFIED:20250407T152844Z
UID:25858-1743699600-1743701400@events.mercer.edu
SUMMARY:How AI Can Change Your Career Trajectory — Master's in Applied Data Intelligence and Machine Learning Webinar
DESCRIPTION:Mercer University continues to offer innovative graduate degree programs that connect you to opportunities in today’s workplace. Our programs are designed for all students\, making it possible for you to manage the important things in life while pursuing a degree in any one of our industry-focused programs. Mercer’s Applied Data Intelligence and Machine Learning degree will prepare you for machine learning job requirements through real-world data practice. As a graduate student\, you will manipulate data sets that have been compiled from real-life sources. Please join Mercer’s Admissions Office to learn how our graduate evening\, weekend\, and online curriculum at Mercer University can help you reach your educational goals!
URL:https://events.mercer.edu/event/how-ai-can-change-your-career-trajectory-masters-in-applied-data-intelligence-and-machine-learning-webinar-15/
LOCATION:Online
CATEGORIES:Admissions - Graduate/Professional
ATTACH;FMTTYPE=image/jpeg:https://events.mercer.edu/wp-content/uploads/sites/3/2025/03/Applied-Data-Intelligence-and-Machine-Learning-1.jpg
ORGANIZER;CN="Liam%20Heery":MAILTO:heery_l@mercer.edu
END:VEVENT
BEGIN:VEVENT
DTSTART;TZID=America/New_York:20250403T173000
DTEND;TZID=America/New_York:20250403T183000
DTSTAMP:20260421T080742
CREATED:20250213T155014Z
LAST-MODIFIED:20250326T155148Z
UID:25295-1743701400-1743705000@events.mercer.edu
SUMMARY:Navigating the Application Process for M.Ed. and Ed.S. Programs — The Accomplished Teacher
DESCRIPTION:In this virtual session\, we will be covering the programs offered under the Advanced Teacher (Master of Education) and the Accomplished Teacher (Education Specialist). \nMercer’s Master of Education (M.Ed.) – The Advanced Teacher is designed to instruct and cultivate teachers to have an expanded philosophy of growth and change based on reliable knowledge and reflections on the best practices of teaching and learning. This program prepares teachers with the ability to understand and apply the skills of data analysis and educational research that impact educational experiences for all students. \nMercer University’s Specialist in Education (Ed.S.) – The Accomplished Teacher degree is a fully online 30-hour program that focuses on enhancing the knowledge and skills of educators in grades P through 12. This specialist degree will prepare you to advance in your career in education and will equip you with the necessary skills and experience for success. \nGo Bears!
URL:https://events.mercer.edu/event/navigating-the-application-process-for-m-ed-and-ed-s-programs-the-accomplished-teacher-6/
LOCATION:Online
CATEGORIES:Admissions - Graduate/Professional
ATTACH;FMTTYPE=image/jpeg:https://events.mercer.edu/wp-content/uploads/sites/3/2025/02/M.Ed_.-HEL-webinar-5.jpg
ORGANIZER;CN="Sarah%20J.%20White":MAILTO:white_sj@mercer.edu
END:VEVENT
END:VCALENDAR