BEGIN:VCALENDAR
VERSION:2.0
PRODID:-//Mercer Events - ECPv5.16.4//NONSGML v1.0//EN
CALSCALE:GREGORIAN
METHOD:PUBLISH
X-WR-CALNAME:Mercer Events
X-ORIGINAL-URL:https://events.mercer.edu
X-WR-CALDESC:Events for Mercer Events
BEGIN:VTIMEZONE
TZID:America/New_York
BEGIN:DAYLIGHT
TZOFFSETFROM:-0500
TZOFFSETTO:-0400
TZNAME:EDT
DTSTART:20250309T070000
END:DAYLIGHT
BEGIN:STANDARD
TZOFFSETFROM:-0400
TZOFFSETTO:-0500
TZNAME:EST
DTSTART:20251102T060000
END:STANDARD
END:VTIMEZONE
BEGIN:VEVENT
DTSTART;TZID=America/New_York:20250409T090000
DTEND;TZID=America/New_York:20250409T093000
DTSTAMP:20260421T180354
CREATED:20250407T154033Z
LAST-MODIFIED:20250407T154033Z
UID:25887-1744189200-1744191000@events.mercer.edu
SUMMARY:MBA Coffee Chat
DESCRIPTION:Grab a cup of coffee\, tea or preferred beverage and stop by online to chat about the Mercer Master in Business Administration (MBA) program. No official agenda. No presentation. Just an opportunity to connect with MBA Admissions\, the occasional faculty member or student and get the information you are looking for and your questions answered. This happens every 2nd Wednesday of the month at 9am EDT.
URL:https://events.mercer.edu/event/mba-coffee-chat-24/
LOCATION:Online
CATEGORIES:Admissions - Graduate/Professional
ATTACH;FMTTYPE=image/png:https://events.mercer.edu/wp-content/uploads/sites/3/2025/04/MBA-Coffee-Chat.png
ORGANIZER;CN="Mat%20Edmunds":MAILTO:business.admissions@mercer.edu
END:VEVENT
BEGIN:VEVENT
DTSTART;TZID=America/New_York:20250409T120000
DTEND;TZID=America/New_York:20250409T130000
DTSTAMP:20260421T180354
CREATED:20250407T154153Z
LAST-MODIFIED:20250407T154153Z
UID:25874-1744200000-1744203600@events.mercer.edu
SUMMARY:Virtual B.S.N. Information Session
DESCRIPTION:Join us virtually to learn more about our BSN program\, admissions requirements\, and the history of Mercer University’s Georgia Baptist College of Nursing.
URL:https://events.mercer.edu/event/virtual-b-s-n-information-session-2/
LOCATION:Online
CATEGORIES:Admissions - Graduate/Professional
ATTACH;FMTTYPE=image/jpeg:https://events.mercer.edu/wp-content/uploads/sites/3/2025/03/NursingMKG2024-6230-1-1.jpg
ORGANIZER;CN="Jordan%20Kelly":MAILTO:nursingadmissions@mercer.edu
END:VEVENT
BEGIN:VEVENT
DTSTART;TZID=America/New_York:20250409T170000
DTEND;TZID=America/New_York:20250409T173000
DTSTAMP:20260421T180354
CREATED:20250407T154330Z
LAST-MODIFIED:20250407T154330Z
UID:25862-1744218000-1744219800@events.mercer.edu
SUMMARY:Become a Master in Health Care Systems — Master's in Health Informatics Webinar
DESCRIPTION:Mercer University continues to offer innovative graduate degree programs that connect you to opportunities in today’s workplace. Our programs are designed for all students\, making it possible for you to manage the important things in life while pursuing a degree in any one of our industry-focused programs. A degree in Health Informatics will give you the skills to learn the latest technological advances\, assist in the delivery of sustainable health care services\, and find solutions to the most pressing issues in our health care systems today. Please join Mercer’s Admissions Office to learn how our graduate evening\, weekend\, and online curriculum at Mercer University can help you reach your educational goals!
URL:https://events.mercer.edu/event/become-a-master-in-health-care-systems-masters-in-health-informatics-webinar-23/
LOCATION:Online
CATEGORIES:Admissions - Graduate/Professional
ATTACH;FMTTYPE=image/jpeg:https://events.mercer.edu/wp-content/uploads/sites/3/2025/03/Health-Informatics-3.jpg
ORGANIZER;CN="Liam%20Heery":MAILTO:heery_l@mercer.edu
END:VEVENT
BEGIN:VEVENT
DTSTART;TZID=America/New_York:20250409T173000
DTEND;TZID=America/New_York:20250409T183000
DTSTAMP:20260421T180354
CREATED:20250213T155133Z
LAST-MODIFIED:20250213T155133Z
UID:25299-1744219800-1744223400@events.mercer.edu
SUMMARY:Pathway to Teaching: The Mercer Bears Guide to Becoming an Educator
DESCRIPTION:Our schools and districts are in need of transformational educators\, and we commend you on beginning your journey to becoming a certified educator in Georgia. Mercer’s Tift College of Education is the largest private preparer of educators in the state of Georgia. Join us for a webinar to discuss our programs for initial teacher certification. \nDuring this webinar\, we will cover the certification rules in Georgia in general before taking a deep dive into Mercer’s MAT program. We look forward to chatting with you there about all that Mercer has to offer. \nGo Bears!
URL:https://events.mercer.edu/event/pathway-to-teaching-the-mercer-bears-guide-to-becoming-an-educator-8/
LOCATION:Online
CATEGORIES:Admissions - Graduate/Professional
ATTACH;FMTTYPE=image/jpeg:https://events.mercer.edu/wp-content/uploads/sites/3/2025/02/How-to-Become-a-Teacher-webinar-4.jpg
ORGANIZER;CN="Sarah%20J.%20White":MAILTO:white_sj@mercer.edu
END:VEVENT
END:VCALENDAR