BEGIN:VCALENDAR
VERSION:2.0
PRODID:-//Mercer Events - ECPv5.16.4//NONSGML v1.0//EN
CALSCALE:GREGORIAN
METHOD:PUBLISH
X-WR-CALNAME:Mercer Events
X-ORIGINAL-URL:https://events.mercer.edu
X-WR-CALDESC:Events for Mercer Events
BEGIN:VTIMEZONE
TZID:America/New_York
BEGIN:DAYLIGHT
TZOFFSETFROM:-0500
TZOFFSETTO:-0400
TZNAME:EDT
DTSTART:20250309T070000
END:DAYLIGHT
BEGIN:STANDARD
TZOFFSETFROM:-0400
TZOFFSETTO:-0500
TZNAME:EST
DTSTART:20251102T060000
END:STANDARD
END:VTIMEZONE
BEGIN:VEVENT
DTSTART;TZID=America/New_York:20250417T090000
DTEND;TZID=America/New_York:20250417T094500
DTSTAMP:20260422T105922
CREATED:20250407T155950Z
LAST-MODIFIED:20250407T160114Z
UID:25891-1744880400-1744883100@events.mercer.edu
SUMMARY:MAcc Coffee Chat
DESCRIPTION:Grab a cup of coffee\, tea or preferred beverage and stop by online to chat about the Mercer Master in Accountancy program. No official agenda. No presentation. Just an opportunity to connect with MAcc Admissions\, the occasional faculty member or student and get the information you are looking for and your questions answered.
URL:https://events.mercer.edu/event/macc-coffee-chat-2/
LOCATION:Online
CATEGORIES:Admissions - Graduate/Professional
ATTACH;FMTTYPE=image/jpeg:https://events.mercer.edu/wp-content/uploads/sites/3/2025/04/MAcc-Info-Session-1.jpg
ORGANIZER;CN="Mat%20Edmunds":MAILTO:business.admissions@mercer.edu
END:VEVENT
BEGIN:VEVENT
DTSTART;TZID=America/New_York:20250417T160000
DTEND;TZID=America/New_York:20250417T170000
DTSTAMP:20260422T105922
CREATED:20241127T184655Z
LAST-MODIFIED:20241127T184655Z
UID:24265-1744905600-1744909200@events.mercer.edu
SUMMARY:Mercer University School of Medicine\, Master of Family Therapy (M.F.T.) Program Virtual Information Session
DESCRIPTION:Join our MFT program director for a virtual information session to help you decide if our program is right for you and to more fully explore how the program may fit into your goals. You will find it a great way to learn more about the MFT program itself and ask any specific questions that you might have.
URL:https://events.mercer.edu/event/mercer-university-school-of-medicine-master-of-family-therapy-m-f-t-program-virtual-information-session-2/2025-04-17/
LOCATION:ZOOM\, United States
CATEGORIES:Admissions - Graduate/Professional
ATTACH;FMTTYPE=image/jpeg:https://events.mercer.edu/wp-content/uploads/sites/3/2024/11/MFT-Info_Session-Image-for-Submit-an-Event.jpg
ORGANIZER;CN="MUSM%20Admissions":MAILTO:musmadmissions@mercer.edu
END:VEVENT
END:VCALENDAR