BEGIN:VCALENDAR
VERSION:2.0
PRODID:-//Mercer Events - ECPv5.16.4//NONSGML v1.0//EN
CALSCALE:GREGORIAN
METHOD:PUBLISH
X-WR-CALNAME:Mercer Events
X-ORIGINAL-URL:https://events.mercer.edu
X-WR-CALDESC:Events for Mercer Events
BEGIN:VTIMEZONE
TZID:America/New_York
BEGIN:DAYLIGHT
TZOFFSETFROM:-0500
TZOFFSETTO:-0400
TZNAME:EDT
DTSTART:20250309T070000
END:DAYLIGHT
BEGIN:STANDARD
TZOFFSETFROM:-0400
TZOFFSETTO:-0500
TZNAME:EST
DTSTART:20251102T060000
END:STANDARD
END:VTIMEZONE
BEGIN:VEVENT
DTSTART;TZID=America/New_York:20250423T170000
DTEND;TZID=America/New_York:20250423T173000
DTSTAMP:20260422T232553
CREATED:20250407T170936Z
LAST-MODIFIED:20250407T170936Z
UID:25868-1745427600-1745429400@events.mercer.edu
SUMMARY:Consider a Career in Counseling — Mercer's M.S. in Counseling Webinar
DESCRIPTION:Mercer University continues to offer innovative graduate degree programs that connect you to opportunities in today’s workplace. Our programs are designed for all students\, making it possible for you to manage the important things in life while pursuing a degree in any one of our industry-focused programs. Today\, more children\, adolescents\, and adults face emotional\, mental\, or behavioral challenges. Mercer University’s Master of Science in Counseling qualifies graduates to help people in their communities tackle such issues.Please join Mercer’s Admissions Office to learn how our graduate evening\, weekend\, and online curriculum at Mercer University can help you reach your educational goals!
URL:https://events.mercer.edu/event/consider-a-career-in-counseling-mercers-m-s-in-counseling-webinar-13/
LOCATION:Online
CATEGORIES:Admissions - Graduate/Professional
ATTACH;FMTTYPE=image/jpeg:https://events.mercer.edu/wp-content/uploads/sites/3/2025/03/Counseling-programs-1.jpg
ORGANIZER;CN="Liam%20Heery":MAILTO:heery_l@mercer.edu
END:VEVENT
BEGIN:VEVENT
DTSTART;TZID=America/New_York:20250423T173000
DTEND;TZID=America/New_York:20250423T183000
DTSTAMP:20260422T232553
CREATED:20250213T155447Z
LAST-MODIFIED:20250213T155447Z
UID:25305-1745429400-1745433000@events.mercer.edu
SUMMARY:Lead the Future: Unleashing Your Potential in Educational Leadership at Mercer
DESCRIPTION:We invite you to join us for a webinar to discuss our Educational Leadership certification programs: Tier One\, M.Ed. in Educational Leadership\, Tier Two\, Ed.S. in Educational Leadership\, and the non-degree\, certification-only options for Tier One and Tier Two. During this webinar\, we will go over the Georgia PSC guidelines for Leadership certification\, and go into the details of how our program operates\, and what our program has to offer.
URL:https://events.mercer.edu/event/lead-the-future-unleashing-your-potential-in-educational-leadership-at-mercer-2/
LOCATION:Online
CATEGORIES:Admissions - Graduate/Professional
ATTACH;FMTTYPE=image/jpeg:https://events.mercer.edu/wp-content/uploads/sites/3/2025/02/Ed-Leadership-Webinar-1.jpg
ORGANIZER;CN="Sarah%20J.%20White":MAILTO:white_sj@mercer.edu
END:VEVENT
END:VCALENDAR