BEGIN:VCALENDAR
VERSION:2.0
PRODID:-//Mercer Events - ECPv5.16.4//NONSGML v1.0//EN
CALSCALE:GREGORIAN
METHOD:PUBLISH
X-WR-CALNAME:Mercer Events
X-ORIGINAL-URL:https://events.mercer.edu
X-WR-CALDESC:Events for Mercer Events
BEGIN:VTIMEZONE
TZID:America/New_York
BEGIN:DAYLIGHT
TZOFFSETFROM:-0500
TZOFFSETTO:-0400
TZNAME:EDT
DTSTART:20230312T070000
END:DAYLIGHT
BEGIN:STANDARD
TZOFFSETFROM:-0400
TZOFFSETTO:-0500
TZNAME:EST
DTSTART:20231105T060000
END:STANDARD
END:VTIMEZONE
BEGIN:VEVENT
DTSTART;TZID=America/New_York:20230325T090000
DTEND;TZID=America/New_York:20230325T150000
DTSTAMP:20260425T210919
CREATED:20220808T141722Z
LAST-MODIFIED:20220808T141722Z
UID:11697-1679734800-1679756400@events.mercer.edu
SUMMARY:Make It Mercer!
DESCRIPTION:Exclusively for accepted students\, Make It Mercer! brings together new Mercerians for one extraordinary day. You and one guest are invited to join us for a day of fun unlike any other\, featuring: \n\nRoommate search activities\nInteractive games across campus\nService-learning project\nIcebreakers with future classmates\nA Taste of Macon for lunch\nMercer swag
URL:https://events.mercer.edu/event/make-it-mercer-4/2023-03-25/
LOCATION:Mercer University Macon Campus\, 1501 Mercer University Drive\, Macon\, GA\, 31207\, United States
CATEGORIES:Admissions – Residential Undergraduate
ATTACH;FMTTYPE=image/jpeg:https://events.mercer.edu/wp-content/uploads/sites/3/2022/08/Events-03.jpg
ORGANIZER;CN="Jordan%20Hiatt":MAILTO:hiatt_jm@mercer.edu
END:VEVENT
END:VCALENDAR