BEGIN:VCALENDAR
VERSION:2.0
PRODID:-//Mercer Events - ECPv5.16.4//NONSGML v1.0//EN
CALSCALE:GREGORIAN
METHOD:PUBLISH
X-WR-CALNAME:Mercer Events
X-ORIGINAL-URL:https://events.mercer.edu
X-WR-CALDESC:Events for Mercer Events
BEGIN:VTIMEZONE
TZID:America/New_York
BEGIN:DAYLIGHT
TZOFFSETFROM:-0500
TZOFFSETTO:-0400
TZNAME:EDT
DTSTART:20230312T070000
END:DAYLIGHT
BEGIN:STANDARD
TZOFFSETFROM:-0400
TZOFFSETTO:-0500
TZNAME:EST
DTSTART:20231105T060000
END:STANDARD
END:VTIMEZONE
BEGIN:VEVENT
DTSTART;TZID=America/New_York:20230814T153000
DTEND;TZID=America/New_York:20230814T170000
DTSTAMP:20260419T180110
CREATED:20230323T153148Z
LAST-MODIFIED:20230323T153148Z
UID:15391-1692027000-1692032400@events.mercer.edu
SUMMARY:2023 President's Fall Faculty Meeting
DESCRIPTION:This is the President’s annual fall faculty meeting with full-time faculty.
URL:https://events.mercer.edu/event/2023-presidents-fall-faculty-meeting/
LOCATION:Toney Auditorium\, 1501 Mercer University Drive\, Macon\, 31207
CATEGORIES:Faculty & Staff
ATTACH;FMTTYPE=image/jpeg:https://events.mercer.edu/wp-content/uploads/sites/3/2019/07/SJP_9656.jpg
ORGANIZER;CN="Vonne%20Sheffield":MAILTO:sheffield_v@mercer.edu
END:VEVENT
END:VCALENDAR