BEGIN:VCALENDAR
VERSION:2.0
PRODID:-//Mercer Events - ECPv5.16.4//NONSGML v1.0//EN
CALSCALE:GREGORIAN
METHOD:PUBLISH
X-WR-CALNAME:Mercer Events
X-ORIGINAL-URL:https://events.mercer.edu
X-WR-CALDESC:Events for Mercer Events
BEGIN:VTIMEZONE
TZID:America/New_York
BEGIN:DAYLIGHT
TZOFFSETFROM:-0500
TZOFFSETTO:-0400
TZNAME:EDT
DTSTART:20240310T070000
END:DAYLIGHT
BEGIN:STANDARD
TZOFFSETFROM:-0400
TZOFFSETTO:-0500
TZNAME:EST
DTSTART:20241103T060000
END:STANDARD
END:VTIMEZONE
BEGIN:VEVENT
DTSTART;TZID=America/New_York:20240504T140000
DTEND;TZID=America/New_York:20240504T160000
DTSTAMP:20260420T073958
CREATED:20240110T212425Z
LAST-MODIFIED:20240110T212425Z
UID:19258-1714831200-1714838400@events.mercer.edu
SUMMARY:School of Medicine Commencement 2024
DESCRIPTION:SCHOOL OF MEDICINE\nSaturday\, May 4\, 2024 │ 2:00 PM\nHawkins Arena\, University Center\, Macon Campus \nCoordinator:\nBe-Atrice Cunningham\n478.301.2433
URL:https://events.mercer.edu/event/school-of-medicine-commencement-2024/
LOCATION:Hawkins Arena\, 1501 Mercer University Drive\, Macon\, 31207
CATEGORIES:Faculty & Staff,Student
ATTACH;FMTTYPE=image/jpeg:https://events.mercer.edu/wp-content/uploads/sites/3/2024/01/White-Coat-6-e1593099000746.jpg
ORGANIZER;CN="Tony%20Kemp":MAILTO:commencement2023@mercer.edu
END:VEVENT
END:VCALENDAR